BEGIN:VCALENDAR
VERSION:2.0
PRODID:-//SO ME District - ECPv6.13.2.1//NONSGML v1.0//EN
CALSCALE:GREGORIAN
METHOD:PUBLISH
X-WR-CALNAME:SO ME District
X-ORIGINAL-URL:https://so-me-district.com
X-WR-CALDESC:Events for SO ME District
REFRESH-INTERVAL;VALUE=DURATION:PT1H
X-Robots-Tag:noindex
X-PUBLISHED-TTL:PT1H
BEGIN:VTIMEZONE
TZID:UTC
BEGIN:STANDARD
TZOFFSETFROM:+0000
TZOFFSETTO:+0000
TZNAME:UTC
DTSTART:20250101T000000
END:STANDARD
END:VTIMEZONE
BEGIN:VTIMEZONE
TZID:America/Denver
BEGIN:DAYLIGHT
TZOFFSETFROM:-0700
TZOFFSETTO:-0600
TZNAME:MDT
DTSTART:20250309T090000
END:DAYLIGHT
BEGIN:STANDARD
TZOFFSETFROM:-0600
TZOFFSETTO:-0700
TZNAME:MST
DTSTART:20251102T080000
END:STANDARD
END:VTIMEZONE
BEGIN:VEVENT
DTSTART;TZID=UTC:20250724T180000
DTEND;TZID=UTC:20250724T200000
DTSTAMP:20260422T051050
CREATED:20250624T003220Z
LAST-MODIFIED:20250715T213640Z
UID:1550-1753380000-1753387200@so-me-district.com
SUMMARY:Jordan Shaw
DESCRIPTION:Join us for an unforgettable evening of free live music at the SO|ME Amp\, featuring the incredibly talented Jordan Shaw! With his soulful voice\, catchy originals\, and crowd-pleasing sounds\, Jordan brings the perfect blend of energy and heart to the stage. \nGrab a seat\, bring a friend\, and enjoy the summer vibes in the SO|ME District’s new favorite outdoor venue. A food truck & mobile bar will be there for all of your desired eats and drinks! \nAll ages welcome\, so come settle in for a great night of music under the stars!
URL:https://so-me-district.com/event/live-at-the-amp-jordan-shaw/
LOCATION:SO|ME Amp\, 1363 E Phenomenal St\, Meridian\, ID\, 83642\, United States
ATTACH;FMTTYPE=image/png:https://so-me-district.com/2021/wp-content/uploads/2025/06/Jordan-Shaw.png
END:VEVENT
BEGIN:VEVENT
DTSTART;TZID=America/Denver:20250724T180000
DTEND;TZID=America/Denver:20250724T200000
DTSTAMP:20260422T051050
CREATED:20250717T202736Z
LAST-MODIFIED:20250724T213154Z
UID:1679-1753380000-1753387200@so-me-district.com
SUMMARY:Unique Eats Food Truck
DESCRIPTION:
URL:https://so-me-district.com/event/la-baja-food-truck/
END:VEVENT
END:VCALENDAR