BEGIN:VCALENDAR
VERSION:2.0
PRODID:-//SO ME District - ECPv6.13.2.1//NONSGML v1.0//EN
CALSCALE:GREGORIAN
METHOD:PUBLISH
X-WR-CALNAME:SO ME District
X-ORIGINAL-URL:https://so-me-district.com
X-WR-CALDESC:Events for SO ME District
REFRESH-INTERVAL;VALUE=DURATION:PT1H
X-Robots-Tag:noindex
X-PUBLISHED-TTL:PT1H
BEGIN:VTIMEZONE
TZID:America/Denver
BEGIN:DAYLIGHT
TZOFFSETFROM:-0700
TZOFFSETTO:-0600
TZNAME:MDT
DTSTART:20250309T090000
END:DAYLIGHT
BEGIN:STANDARD
TZOFFSETFROM:-0600
TZOFFSETTO:-0700
TZNAME:MST
DTSTART:20251102T080000
END:STANDARD
END:VTIMEZONE
BEGIN:VEVENT
DTSTART;TZID=America/Denver:20250802T090000
DTEND;TZID=America/Denver:20250802T130000
DTSTAMP:20260422T034044
CREATED:20250717T203300Z
LAST-MODIFIED:20250729T153622Z
UID:1687-1754125200-1754139600@so-me-district.com
SUMMARY:Monument Hill Farm's Fresh Produce Stand
DESCRIPTION:Stop by Monument Hill Farm’s produce stand for fresh\, seasonal fruits and veggies grown by nearby farmers! We’ll be set up right outside the SO|ME Amp gates\, offering delicious\, locally grown options for you and your family. Come support local agriculture and enjoy the taste of fresh-picked goodness!
URL:https://so-me-district.com/event/fresh-produce-stand-2/
ATTACH;FMTTYPE=image/jpeg:https://so-me-district.com/2021/wp-content/uploads/2025/07/AdobeStock_1383331129-scaled.jpeg
END:VEVENT
BEGIN:VEVENT
DTSTART;TZID=America/Denver:20250802T100000
DTEND;TZID=America/Denver:20250802T120000
DTSTAMP:20260422T034044
CREATED:20250729T164153Z
LAST-MODIFIED:20250730T174408Z
UID:1752-1754128800-1754136000@so-me-district.com
SUMMARY:Meridian Library Pinnacle Branch - End of Summer Reading Program
DESCRIPTION:Join The Meridian Library Pinnacle Branch for Meridian Library District’s End of Summer Reading Program \n  \nMeridian Library Event Page: https://www.mld.org/event/end-summer-reading-party-41888
URL:https://so-me-district.com/event/meridian-library-pinnacle-brand-end-of-summer-reading-program/
ATTACH;FMTTYPE=image/svg+xml:https://so-me-district.com/2021/wp-content/uploads/2025/04/logo-1.svg
END:VEVENT
END:VCALENDAR