BEGIN:VCALENDAR
VERSION:2.0
PRODID:-//SO ME District - ECPv6.13.2.1//NONSGML v1.0//EN
CALSCALE:GREGORIAN
METHOD:PUBLISH
X-WR-CALNAME:SO ME District
X-ORIGINAL-URL:https://so-me-district.com
X-WR-CALDESC:Events for SO ME District
REFRESH-INTERVAL;VALUE=DURATION:PT1H
X-Robots-Tag:noindex
X-PUBLISHED-TTL:PT1H
BEGIN:VTIMEZONE
TZID:UTC
BEGIN:STANDARD
TZOFFSETFROM:+0000
TZOFFSETTO:+0000
TZNAME:UTC
DTSTART:20250101T000000
END:STANDARD
END:VTIMEZONE
BEGIN:VEVENT
DTSTART;TZID=UTC:20250810T090000
DTEND;TZID=UTC:20250810T100000
DTSTAMP:20260422T035134
CREATED:20250623T234313Z
LAST-MODIFIED:20250624T023100Z
UID:1534-1754816400-1754820000@so-me-district.com
SUMMARY:POUND at the Amp
DESCRIPTION:Instead of listening to music\, you become the music in this exhilarating full-body workout that combines cardio\, conditioning\, and strength training with yoga and pilates-inspired movements. Using Ripstix®\, lightly weighted drumsticks engineered specifically for exercising\, POUND transforms drumming into an incredibly effective way of working out. \nDesigned for all fitness levels\, POUND® provides the perfect atmosphere for letting loose\, getting energized\, toning up and rockin’ out! The workout is easily modifiable and the alternative vibe and  welcoming philosophy appeals to rockstars of all ages and abilities. \nAs a community\, we believe that we have the ability to inspire a nation\, to turn the fitness world on its head\, and to truly find alternative ways to ROCK. We aspire to change minds before bodies and use beat and alternative movement to launch people to new heights of self worth\, happiness and human connection. AKA\, release their INNER ROCKSTARS.
URL:https://so-me-district.com/event/pound-at-the-amp-august-10/
LOCATION:SO|ME Amp\, 1363 E Phenomenal St\, Meridian\, ID\, 83642\, United States
ATTACH;FMTTYPE=image/png:https://so-me-district.com/2021/wp-content/uploads/2025/06/Website-Event-Photos-1.png
END:VEVENT
END:VCALENDAR