BEGIN:VCALENDAR
VERSION:2.0
PRODID:-//SO ME District - ECPv6.13.2.1//NONSGML v1.0//EN
CALSCALE:GREGORIAN
METHOD:PUBLISH
X-WR-CALNAME:SO ME District
X-ORIGINAL-URL:https://so-me-district.com
X-WR-CALDESC:Events for SO ME District
REFRESH-INTERVAL;VALUE=DURATION:PT1H
X-Robots-Tag:noindex
X-PUBLISHED-TTL:PT1H
BEGIN:VTIMEZONE
TZID:America/Denver
BEGIN:DAYLIGHT
TZOFFSETFROM:-0700
TZOFFSETTO:-0600
TZNAME:MDT
DTSTART:20250309T090000
END:DAYLIGHT
BEGIN:STANDARD
TZOFFSETFROM:-0600
TZOFFSETTO:-0700
TZNAME:MST
DTSTART:20251102T080000
END:STANDARD
END:VTIMEZONE
BEGIN:VEVENT
DTSTART;TZID=America/Denver:20250903T180000
DTEND;TZID=America/Denver:20250903T200000
DTSTAMP:20260422T022655
CREATED:20250624T040819Z
LAST-MODIFIED:20250828T192852Z
UID:1605-1756922400-1756929600@so-me-district.com
SUMMARY:Trivia Night
DESCRIPTION:Get your crew together for Trivia Night at The SO|ME Amp\, hosted by Game Night Live—an interactive\, high-energy evening packed with clever questions\, quirky challenges\, and good vibes. It’s free to play\, fun to win\, and easy to join in.
URL:https://so-me-district.com/event/trivia-night-2/
LOCATION:SO|ME Amp\, 1363 E Phenomenal St\, Meridian\, ID\, 83642\, United States
ATTACH;FMTTYPE=image/jpeg:https://so-me-district.com/2021/wp-content/uploads/2025/06/AdobeStock_500107817-scaled.jpeg
END:VEVENT
BEGIN:VEVENT
DTSTART;TZID=America/Denver:20250903T180000
DTEND;TZID=America/Denver:20250903T200000
DTSTAMP:20260422T022655
CREATED:20250717T202935Z
LAST-MODIFIED:20250717T202935Z
UID:1683-1756922400-1756929600@so-me-district.com
SUMMARY:La Baja Food Truck
DESCRIPTION:
URL:https://so-me-district.com/event/la-baja-food-truck-3/
END:VEVENT
BEGIN:VEVENT
DTSTART;TZID=America/Denver:20250903T180000
DTEND;TZID=America/Denver:20250903T200000
DTSTAMP:20260422T022655
CREATED:20250806T205512Z
LAST-MODIFIED:20250806T220217Z
UID:1796-1756922400-1756929600@so-me-district.com
SUMMARY:HomeGrown Tavern\, LLC.
DESCRIPTION:HomeGrown Tavern LLC will be on site for fresh cocktails\, mocktails\, and refreshing evening drinks! \n  \nWe kindly ask that you leave outside alcohol at home—refreshments are available at the venue.
URL:https://so-me-district.com/event/homegrown-tavern-llc-5/
ATTACH;FMTTYPE=image/jpeg:https://so-me-district.com/2021/wp-content/uploads/2025/08/SO_ME_Market_07-23-25_052.jpg
END:VEVENT
END:VCALENDAR