BEGIN:VCALENDAR
VERSION:2.0
PRODID:-//SO ME District - ECPv6.13.2.1//NONSGML v1.0//EN
CALSCALE:GREGORIAN
METHOD:PUBLISH
X-ORIGINAL-URL:https://so-me-district.com
X-WR-CALDESC:Events for SO ME District
REFRESH-INTERVAL;VALUE=DURATION:PT1H
X-Robots-Tag:noindex
X-PUBLISHED-TTL:PT1H
BEGIN:VTIMEZONE
TZID:America/Denver
BEGIN:DAYLIGHT
TZOFFSETFROM:-0700
TZOFFSETTO:-0600
TZNAME:MDT
DTSTART:20250309T090000
END:DAYLIGHT
BEGIN:STANDARD
TZOFFSETFROM:-0600
TZOFFSETTO:-0700
TZNAME:MST
DTSTART:20251102T080000
END:STANDARD
END:VTIMEZONE
BEGIN:VEVENT
DTSTART;TZID=America/Denver:20250905T173000
DTEND;TZID=America/Denver:20250905T193000
DTSTAMP:20260422T021855
CREATED:20250801T185655Z
LAST-MODIFIED:20250801T185655Z
UID:1772-1757093400-1757100600@so-me-district.com
SUMMARY:Food Truck: Locolicious
DESCRIPTION:Catch the Locolicious Food Truck in the SO|ME Amp Promenade on Friday\, September 5th from 5:30-7:30PM! They will be bringing crazy delicious meat\, pizza\, tacos and bites! V\, VG\, GF options available! \n  \n 
URL:https://so-me-district.com/event/food-truck-locolicious/
ATTACH;FMTTYPE=image/png:https://so-me-district.com/2021/wp-content/uploads/2025/08/LocoliciousPhoto.png
END:VEVENT
BEGIN:VEVENT
DTSTART;TZID=America/Denver:20250905T173000
DTEND;TZID=America/Denver:20250905T200000
DTSTAMP:20260422T021855
CREATED:20250801T212210Z
LAST-MODIFIED:20250801T212210Z
UID:1782-1757093400-1757102400@so-me-district.com
SUMMARY:Homegrown Tavern LLC
DESCRIPTION:HomeGrown Tavern LLC will be on site for fresh cocktails\, mocktails\, and refreshing evening drinks! \n  \nWe kindly ask that you leave outside alcohol at home—refreshments are available at the venue.
URL:https://so-me-district.com/event/homegrown-tavern-llc-2/
ATTACH;FMTTYPE=image/jpeg:https://so-me-district.com/2021/wp-content/uploads/2025/08/SO_ME_Market_07-23-25_052.jpg
END:VEVENT
BEGIN:VEVENT
DTSTART;TZID=America/Denver:20250905T180000
DTEND;TZID=America/Denver:20250905T200000
DTSTAMP:20260422T021855
CREATED:20250801T170103Z
LAST-MODIFIED:20250801T170103Z
UID:1761-1757095200-1757102400@so-me-district.com
SUMMARY:Live Music: Nick Mattera
DESCRIPTION:Catch Nick Mattera live at the SO|ME Amp\, Friday September 5th from 6-8PM. Bring a lawn chair or blanket and catch the good vibes! \n  \nAbout Nick: \n \n\n \n\n\n\n\n\n\n\n\n“Nick always knew he was meant to be a songwriter. “When I was a kid\, I was always writing little songs. Songs about people in my life\, or about specific events and I would put those emotions I felt onto paper about the things that were happening in my life and the people around me that were a part of those moments or memories. And somewhere along the way\, it just became obvious to me that I would keep doing it my whole life.” \nDespite him rapidly increasing his fan base\, he still thinks of himself as a working musician. “I have to write constantly\,” he says. “Otherwise\, I worry I’m being lazy and that makes me anxious.” That impressive work ethic has led to numerous musical projects\, three albums with his band Big Bad Zero\, Christmas albums\, two solo records along with his new record set for release early 2021.  Prior to 2020’s pandemic you could catch many of his performances all across Las Vegas. Favorites like Station Casinos\, The Palms\, Hard Rock Cafe on the Las Vegas Strip and many local taverns\, conventions and restaurants. He’s toured the United States with his group Big Bad Zero opening for artists such as the Cult\, Brad Paisley\, Keith Urban\, Sarah Evans\, Better Than Ezra\, Foreigner\, Incubus\, Sammy Hagar\, Los Lobos\, Train and Cheap Trick to name a few. \n“Will I ever quit making music? No\, never. If I quit\, I would be a drag to be around. I love making music and the special place it takes me to inside. I’m fortunate to create music and share it with others and hopefully my music takes them somewhere special too.””
URL:https://so-me-district.com/event/live-music-nick-mattera/
ATTACH;FMTTYPE=image/png:https://so-me-district.com/2021/wp-content/uploads/2025/08/NickMatteraPhoto.png
END:VEVENT
END:VCALENDAR