BEGIN:VCALENDAR
VERSION:2.0
PRODID:-//SO ME District - ECPv6.13.2.1//NONSGML v1.0//EN
CALSCALE:GREGORIAN
METHOD:PUBLISH
X-WR-CALNAME:SO ME District
X-ORIGINAL-URL:https://so-me-district.com
X-WR-CALDESC:Events for SO ME District
REFRESH-INTERVAL;VALUE=DURATION:PT1H
X-Robots-Tag:noindex
X-PUBLISHED-TTL:PT1H
BEGIN:VTIMEZONE
TZID:America/Denver
BEGIN:DAYLIGHT
TZOFFSETFROM:-0700
TZOFFSETTO:-0600
TZNAME:MDT
DTSTART:20250309T090000
END:DAYLIGHT
BEGIN:STANDARD
TZOFFSETFROM:-0600
TZOFFSETTO:-0700
TZNAME:MST
DTSTART:20251102T080000
END:STANDARD
END:VTIMEZONE
BEGIN:VEVENT
DTSTART;TZID=America/Denver:20250912T180000
DTEND;TZID=America/Denver:20250912T200000
DTSTAMP:20260422T021739
CREATED:20250722T173034Z
LAST-MODIFIED:20250911T210652Z
UID:1721-1757700000-1757707200@so-me-district.com
SUMMARY:Music Night: Brook Faulk
DESCRIPTION:Due to a last minute cancellation\, Brook Faulk and Zack will be taking the SO|ME Amp stage! We can’t wait to hear what they have in store for us!
URL:https://so-me-district.com/event/music-night-blue-sky-band/
LOCATION:SO|ME Amp\, 1363 E Phenomenal St\, Meridian\, ID\, 83642\, United States
ATTACH;FMTTYPE=image/png:https://so-me-district.com/2021/wp-content/uploads/2025/07/brookfaulkinfo.png
END:VEVENT
BEGIN:VEVENT
DTSTART;TZID=America/Denver:20250912T180000
DTEND;TZID=America/Denver:20250912T200000
DTSTAMP:20260422T021739
CREATED:20250801T171608Z
LAST-MODIFIED:20250801T171608Z
UID:1768-1757700000-1757707200@so-me-district.com
SUMMARY:HomeGrown Tavern LLC
DESCRIPTION:HomeGrown Tavern LLC will be on site for fresh cocktails\, mocktails\, and refreshing evening drinks! \n  \nWe kindly ask that you leave outside alcohol at home—refreshments are available at the venue.
URL:https://so-me-district.com/event/homegrown-tavern-llc/
ATTACH;FMTTYPE=image/jpeg:https://so-me-district.com/2021/wp-content/uploads/2025/08/SO_ME_Market_07-23-25_052.jpg
END:VEVENT
END:VCALENDAR