BEGIN:VCALENDAR
VERSION:2.0
PRODID:-//SO ME District - ECPv6.13.2.1//NONSGML v1.0//EN
CALSCALE:GREGORIAN
METHOD:PUBLISH
X-ORIGINAL-URL:https://so-me-district.com
X-WR-CALDESC:Events for SO ME District
REFRESH-INTERVAL;VALUE=DURATION:PT1H
X-Robots-Tag:noindex
X-PUBLISHED-TTL:PT1H
BEGIN:VTIMEZONE
TZID:UTC
BEGIN:STANDARD
TZOFFSETFROM:+0000
TZOFFSETTO:+0000
TZNAME:UTC
DTSTART:20250101T000000
END:STANDARD
END:VTIMEZONE
BEGIN:VEVENT
DTSTART;TZID=UTC:20250913T090000
DTEND;TZID=UTC:20250913T100000
DTSTAMP:20260422T022753
CREATED:20250623T232330Z
LAST-MODIFIED:20250624T022501Z
UID:1530-1757754000-1757757600@so-me-district.com
SUMMARY:Yoga at the Amp
DESCRIPTION:Start your day with movement and mindfulness under the open sky. Join us for a refreshing outdoor yoga session designed for all levels. Whether you’re a seasoned yogi or just beginning\, this peaceful practice is the perfect way to connect with your breath\, body\, and community.
URL:https://so-me-district.com/event/yoga-at-the-amp-september-13/
LOCATION:SO|ME Amp\, 1363 E Phenomenal St\, Meridian\, ID\, 83642\, United States
ATTACH;FMTTYPE=image/png:https://so-me-district.com/2021/wp-content/uploads/2025/06/Yoga-at-the-Amp.png
END:VEVENT
END:VCALENDAR