BEGIN:VCALENDAR
VERSION:2.0
PRODID:-//SO ME District - ECPv6.13.2.1//NONSGML v1.0//EN
CALSCALE:GREGORIAN
METHOD:PUBLISH
X-WR-CALNAME:SO ME District
X-ORIGINAL-URL:https://so-me-district.com
X-WR-CALDESC:Events for SO ME District
REFRESH-INTERVAL;VALUE=DURATION:PT1H
X-Robots-Tag:noindex
X-PUBLISHED-TTL:PT1H
BEGIN:VTIMEZONE
TZID:America/Denver
BEGIN:DAYLIGHT
TZOFFSETFROM:-0700
TZOFFSETTO:-0600
TZNAME:MDT
DTSTART:20250309T090000
END:DAYLIGHT
BEGIN:STANDARD
TZOFFSETFROM:-0600
TZOFFSETTO:-0700
TZNAME:MST
DTSTART:20251102T080000
END:STANDARD
END:VTIMEZONE
BEGIN:VEVENT
DTSTART;TZID=America/Denver:20250919T173000
DTEND;TZID=America/Denver:20250919T193000
DTSTAMP:20260422T021739
CREATED:20250801T185826Z
LAST-MODIFIED:20250801T185826Z
UID:1776-1758303000-1758310200@so-me-district.com
SUMMARY:Food Truck: Locolicious
DESCRIPTION:Catch the Locolicious Food Truck in the SO|ME Amp Promenade on Friday\, September 19th from 5:30-7:30PM! They will be bringing crazy delicious meat\, pizza\, tacos and bites! V\, VG\, GF options available!
URL:https://so-me-district.com/event/food-truck-locolicious-2/
ATTACH;FMTTYPE=image/png:https://so-me-district.com/2021/wp-content/uploads/2025/08/LocoliciousPhoto.png
END:VEVENT
BEGIN:VEVENT
DTSTART;TZID=America/Denver:20250919T173000
DTEND;TZID=America/Denver:20250919T200000
DTSTAMP:20260422T021739
CREATED:20250801T212405Z
LAST-MODIFIED:20250801T212405Z
UID:1784-1758303000-1758312000@so-me-district.com
SUMMARY:HomeGrown Tavern LLC
DESCRIPTION:HomeGrown Tavern LLC will be on site for fresh cocktails\, mocktails\, and refreshing evening drinks! \n  \nWe kindly ask that you leave outside alcohol at home—refreshments are available at the venue.
URL:https://so-me-district.com/event/homegrown-tavern-llc-3/
ATTACH;FMTTYPE=image/jpeg:https://so-me-district.com/2021/wp-content/uploads/2025/08/SO_ME_Market_07-23-25_052.jpg
END:VEVENT
BEGIN:VEVENT
DTSTART;TZID=America/Denver:20250919T180000
DTEND;TZID=America/Denver:20250919T200000
DTSTAMP:20260422T021739
CREATED:20250801T191343Z
LAST-MODIFIED:20250801T191343Z
UID:1778-1758304800-1758312000@so-me-district.com
SUMMARY:Live Music: Bronson and Co. Duo
DESCRIPTION:Bronson and Co. acoustic duo will be live at the SO|ME Amp on Friday\, September 19th to bring you a mixture of country and rock!
URL:https://so-me-district.com/event/live-music-bronson-and-co-duo/
ATTACH;FMTTYPE=image/png:https://so-me-district.com/2021/wp-content/uploads/2025/08/photoduo.png
END:VEVENT
END:VCALENDAR