BEGIN:VCALENDAR
VERSION:2.0
PRODID:-//SO ME District - ECPv6.13.2.1//NONSGML v1.0//EN
CALSCALE:GREGORIAN
METHOD:PUBLISH
X-ORIGINAL-URL:https://so-me-district.com
X-WR-CALDESC:Events for SO ME District
REFRESH-INTERVAL;VALUE=DURATION:PT1H
X-Robots-Tag:noindex
X-PUBLISHED-TTL:PT1H
BEGIN:VTIMEZONE
TZID:UTC
BEGIN:STANDARD
TZOFFSETFROM:+0000
TZOFFSETTO:+0000
TZNAME:UTC
DTSTART:20250101T000000
END:STANDARD
END:VTIMEZONE
BEGIN:VEVENT
DTSTART;TZID=UTC:20251001T180000
DTEND;TZID=UTC:20251001T200000
DTSTAMP:20260420T011944
CREATED:20250624T040914Z
LAST-MODIFIED:20250925T212346Z
UID:1607-1759341600-1759348800@so-me-district.com
SUMMARY:Trivia Night
DESCRIPTION:Get your crew together for Trivia Night at The SO|ME Amp\, hosted by Game Night Live—an interactive\, high-energy evening packed with clever questions\, quirky challenges\, and good vibes. It’s free to play\, fun to win\, and easy to join in. \nPlease feel free to bring your own food and beverages!
URL:https://so-me-district.com/event/trivia-night-3/
ATTACH;FMTTYPE=image/jpeg:https://so-me-district.com/2021/wp-content/uploads/2025/06/AdobeStock_500107817-scaled.jpeg
END:VEVENT
END:VCALENDAR