BEGIN:VCALENDAR
VERSION:2.0
PRODID:-//SO ME District - ECPv6.13.2.1//NONSGML v1.0//EN
CALSCALE:GREGORIAN
METHOD:PUBLISH
X-ORIGINAL-URL:https://so-me-district.com
X-WR-CALDESC:Events for SO ME District
REFRESH-INTERVAL;VALUE=DURATION:PT1H
X-Robots-Tag:noindex
X-PUBLISHED-TTL:PT1H
BEGIN:VTIMEZONE
TZID:America/Denver
BEGIN:DAYLIGHT
TZOFFSETFROM:-0700
TZOFFSETTO:-0600
TZNAME:MDT
DTSTART:20260308T090000
END:DAYLIGHT
BEGIN:STANDARD
TZOFFSETFROM:-0600
TZOFFSETTO:-0700
TZNAME:MST
DTSTART:20261101T080000
END:STANDARD
END:VTIMEZONE
BEGIN:VEVENT
DTSTART;TZID=America/Denver:20260328T100000
DTEND;TZID=America/Denver:20260328T120000
DTSTAMP:20260419T173659
CREATED:20260209T203939Z
LAST-MODIFIED:20260209T203939Z
UID:2216-1774692000-1774699200@so-me-district.com
SUMMARY:Easter Egg Hunt
DESCRIPTION:Free Easter Egg Hunt at SO|ME AmpHop on over to the SO|ME Amp for a free\, family-friendly Easter Egg Hunt! Enjoy egg hunting fun\, face painting\, Easter crafts\, and Egg-lympic games with prizes\, plus live music throughout the event. Bring your baskets and celebrate spring with us at this fun community gathering!
URL:https://so-me-district.com/event/easter-egg-hunt/
LOCATION:SO|ME Amp\, 1363 E Phenomenal St\, Meridian\, ID\, 83642\, United States
ATTACH;FMTTYPE=image/png:https://so-me-district.com/2021/wp-content/uploads/2026/02/SOME-EASTER-EGG-HUNT.png
END:VEVENT
END:VCALENDAR