BEGIN:VCALENDAR
VERSION:2.0
PRODID:-//SO ME District - ECPv6.13.2.1//NONSGML v1.0//EN
CALSCALE:GREGORIAN
METHOD:PUBLISH
X-ORIGINAL-URL:https://so-me-district.com
X-WR-CALDESC:Events for SO ME District
REFRESH-INTERVAL;VALUE=DURATION:PT1H
X-Robots-Tag:noindex
X-PUBLISHED-TTL:PT1H
BEGIN:VTIMEZONE
TZID:America/Denver
BEGIN:DAYLIGHT
TZOFFSETFROM:-0700
TZOFFSETTO:-0600
TZNAME:MDT
DTSTART:20260308T090000
END:DAYLIGHT
BEGIN:STANDARD
TZOFFSETFROM:-0600
TZOFFSETTO:-0700
TZNAME:MST
DTSTART:20261101T080000
END:STANDARD
END:VTIMEZONE
BEGIN:VEVENT
DTSTART;TZID=America/Denver:20260417T170000
DTEND;TZID=America/Denver:20260417T200000
DTSTAMP:20260419T160057
CREATED:20251007T195025Z
LAST-MODIFIED:20260304T172223Z
UID:1981-1776445200-1776456000@so-me-district.com
SUMMARY:Great Homes Tour: Spencer Batt Live Music + Food Truck
DESCRIPTION:Spencer Batt brings live music to the SO|ME Amp stage\, with Walkin’ Takos and Wok N Roll food trucks provided by the Great Homes Tour. \n  \nThis event is BYOB (Bring Your Own Beverage). Guests are welcome to bring their own drinks to enjoy during the event. Please drink responsibly and plan ahead for a safe ride home. \n  \nSpencer’s Website: https://www.battentertainment.com/
URL:https://so-me-district.com/event/great-homes-tour/
LOCATION:SO|ME Amp\, 1363 E Phenomenal St\, Meridian\, ID\, 83642\, United States
ATTACH;FMTTYPE=image/jpeg:https://so-me-district.com/2021/wp-content/uploads/2025/10/4E0A8611.jpg
ORGANIZER;CN="Great Homes Tour":MAILTO:brightonmarketing@brighton.co
END:VEVENT
END:VCALENDAR