BEGIN:VCALENDAR
VERSION:2.0
PRODID:-//SO ME District - ECPv6.13.2.1//NONSGML v1.0//EN
CALSCALE:GREGORIAN
METHOD:PUBLISH
X-WR-CALNAME:SO ME District
X-ORIGINAL-URL:https://so-me-district.com
X-WR-CALDESC:Events for SO ME District
REFRESH-INTERVAL;VALUE=DURATION:PT1H
X-Robots-Tag:noindex
X-PUBLISHED-TTL:PT1H
BEGIN:VTIMEZONE
TZID:America/Denver
BEGIN:DAYLIGHT
TZOFFSETFROM:-0700
TZOFFSETTO:-0600
TZNAME:MDT
DTSTART:20260308T090000
END:DAYLIGHT
BEGIN:STANDARD
TZOFFSETFROM:-0600
TZOFFSETTO:-0700
TZNAME:MST
DTSTART:20261101T080000
END:STANDARD
END:VTIMEZONE
BEGIN:VEVENT
DTSTART;TZID=America/Denver:20260422T170000
DTEND;TZID=America/Denver:20260422T200000
DTSTAMP:20260419T155627
CREATED:20251204T194516Z
LAST-MODIFIED:20260414T194232Z
UID:2055-1776877200-1776888000@so-me-district.com
SUMMARY:SO|ME Market Kickoff!
DESCRIPTION:Discover local produce\, local vendors\, and handcrafted goods at the SO|ME Market at Pinnacle\, held every Wednesday from 5–8 p.m. Enjoy shopping\, community fun\, and seasonal activities for all ages.
URL:https://so-me-district.com/event/some-market/
LOCATION:SO|ME Amp\, 1363 E Phenomenal St\, Meridian\, ID\, 83642\, United States
ATTACH;FMTTYPE=image/jpeg:https://so-me-district.com/2021/wp-content/uploads/2025/12/Marketphoto2.jpg
ORGANIZER;CN="SO|ME Market":MAILTO:Southmeridianmarket@brighton.co
END:VEVENT
BEGIN:VEVENT
DTSTART;TZID=America/Denver:20260422T181500
DTEND;TZID=America/Denver:20260422T193000
DTSTAMP:20260419T155627
CREATED:20260224T172737Z
LAST-MODIFIED:20260320T153140Z
UID:2270-1776881700-1776886200@so-me-district.com
SUMMARY:Corbin Maxey: Wild about THRIVE
DESCRIPTION:Catch Corbin Maxey Animal Expert live at the SO|ME Amp for a free fundraiser benefiting the Tomlinson YMCA’s THRIVE Program! You WON”T want to miss this! \nReserve Your Spot!
URL:https://so-me-district.com/event/corbin-maxey-wild-about-thrive/
ATTACH;FMTTYPE=image/jpeg:https://so-me-district.com/2021/wp-content/uploads/2026/02/IMG_D98FD74EF651-1-1-scaled.jpeg
END:VEVENT
END:VCALENDAR