BEGIN:VCALENDAR
VERSION:2.0
PRODID:-//SO ME District - ECPv6.13.2.1//NONSGML v1.0//EN
CALSCALE:GREGORIAN
METHOD:PUBLISH
X-ORIGINAL-URL:https://so-me-district.com
X-WR-CALDESC:Events for SO ME District
REFRESH-INTERVAL;VALUE=DURATION:PT1H
X-Robots-Tag:noindex
X-PUBLISHED-TTL:PT1H
BEGIN:VTIMEZONE
TZID:America/Denver
BEGIN:DAYLIGHT
TZOFFSETFROM:-0700
TZOFFSETTO:-0600
TZNAME:MDT
DTSTART:20260308T090000
END:DAYLIGHT
BEGIN:STANDARD
TZOFFSETFROM:-0600
TZOFFSETTO:-0700
TZNAME:MST
DTSTART:20261101T080000
END:STANDARD
END:VTIMEZONE
BEGIN:VEVENT
DTSTART;TZID=America/Denver:20260429T170000
DTEND;TZID=America/Denver:20260429T200000
DTSTAMP:20260419T142206
CREATED:20251204T194714Z
LAST-MODIFIED:20251204T194714Z
UID:2058-1777482000-1777492800@so-me-district.com
SUMMARY:SO|ME Market
DESCRIPTION:Discover local produce\, local vendors\, and handcrafted goods at the SO|ME Market at Pinnacle\, held every Wednesday from 5–8 p.m. Enjoy shopping\, community fun\, and seasonal activities for all ages.
URL:https://so-me-district.com/event/some-market-2/
LOCATION:SO|ME Amp\, 1363 E Phenomenal St\, Meridian\, ID\, 83642\, United States
ATTACH;FMTTYPE=image/jpeg:https://so-me-district.com/2021/wp-content/uploads/2025/12/Marketphoto3.jpg
ORGANIZER;CN="SO|ME Market":MAILTO:Southmeridianmarket@brighton.co
END:VEVENT
BEGIN:VEVENT
DTSTART;TZID=America/Denver:20260429T180000
DTEND;TZID=America/Denver:20260429T200000
DTSTAMP:20260419T142206
CREATED:20260115T211419Z
LAST-MODIFIED:20260414T194041Z
UID:2191-1777485600-1777492800@so-me-district.com
SUMMARY:SO|ME Concert Series: Scotty Mac & The Nugs
DESCRIPTION:Blending country and rock with a bluesy edge\, this local band brings nonstop energy and a fun\, authentic vibe that shows they truly love what they do every time they take the stage. Catch Scotty Mac & The Nugs live at the SO|ME Amp main stage for the SO|ME Market Kick Off Celebration! \nAlcoholic beverages will be available for purchase on-site through a licensed third-party vendor\, so we kindly ask that guests do not bring outside alcohol to the event. Non-alcoholic beverages\, snacks\, and other concessions will be available at the SO|ME Amp concessions booth.
URL:https://so-me-district.com/event/some-music-series-scotty-mac-the-nugs/
LOCATION:SO|ME Amp\, 1363 E Phenomenal St\, Meridian\, ID\, 83642\, United States
ATTACH;FMTTYPE=image/png:https://so-me-district.com/2021/wp-content/uploads/2026/01/ScottyMacTheNugsphoto.png
END:VEVENT
BEGIN:VEVENT
DTSTART;TZID=America/Denver:20260429T180000
DTEND;TZID=America/Denver:20260429T200000
DTSTAMP:20260419T142206
CREATED:20260224T172249Z
LAST-MODIFIED:20260312T213100Z
UID:2266-1777485600-1777492800@so-me-district.com
SUMMARY:Cornhole Tournament
DESCRIPTION:Cornhole Tournament hosted by Cornhole Idaho\, free to play! Winning team gets a $50 gift card to a local restaurant! \nRegistration Instructions: \n\nDownload the “Scoreholio” App and Allow Push Notifications\nClick on the green “Check-In” Box\nInput your First Name\, Last Name\, and Email Address into the fields\nClick the “Generate QR Code” Button\nGo to Tournament Organizer and scan your QR Code to be checked in to the tournament\n\nHave fun!!
URL:https://so-me-district.com/event/cornhole-tournament/
LOCATION:SO|ME Amp\, 1363 E Phenomenal St\, Meridian\, ID\, 83642\, United States
ATTACH;FMTTYPE=image/jpeg:https://so-me-district.com/2021/wp-content/uploads/2026/02/Pro-Image-Event-Photography_NZ88267.jpg
END:VEVENT
END:VCALENDAR