BEGIN:VCALENDAR
VERSION:2.0
PRODID:-//SO ME District - ECPv6.13.2.1//NONSGML v1.0//EN
CALSCALE:GREGORIAN
METHOD:PUBLISH
X-WR-CALNAME:SO ME District
X-ORIGINAL-URL:https://so-me-district.com
X-WR-CALDESC:Events for SO ME District
REFRESH-INTERVAL;VALUE=DURATION:PT1H
X-Robots-Tag:noindex
X-PUBLISHED-TTL:PT1H
BEGIN:VTIMEZONE
TZID:America/Denver
BEGIN:DAYLIGHT
TZOFFSETFROM:-0700
TZOFFSETTO:-0600
TZNAME:MDT
DTSTART:20260308T090000
END:DAYLIGHT
BEGIN:STANDARD
TZOFFSETFROM:-0600
TZOFFSETTO:-0700
TZNAME:MST
DTSTART:20261101T080000
END:STANDARD
END:VTIMEZONE
BEGIN:VEVENT
DTSTART;TZID=America/Denver:20260612T100000
DTEND;TZID=America/Denver:20260612T120000
DTSTAMP:20260419T122223
CREATED:20260414T193844Z
LAST-MODIFIED:20260414T193844Z
UID:2509-1781258400-1781265600@so-me-district.com
SUMMARY:Meridian Library District Presents: Dino-Dig Terrariums
DESCRIPTION:
URL:https://so-me-district.com/event/meridian-library-district-presents-dino-dig-terrariums/
LOCATION:SO|ME Amp\, 1363 E Phenomenal St\, Meridian\, ID\, 83642\, United States
ATTACH;FMTTYPE=image/png:https://so-me-district.com/2021/wp-content/uploads/2026/04/Terrarium-Flyer.png
END:VEVENT
BEGIN:VEVENT
DTSTART;TZID=America/Denver:20260612T190000
DTEND;TZID=America/Denver:20260612T210000
DTSTAMP:20260419T122223
CREATED:20260224T175442Z
LAST-MODIFIED:20260304T172438Z
UID:2282-1781290800-1781298000@so-me-district.com
SUMMARY:SO|ME Concert Series: Hudson Powder Co.
DESCRIPTION:Come see Hudson Powder Co. play at the SO|ME Amp! \nThis event is BYOB (Bring Your Own Beverage). Guests are welcome to bring their own drinks to enjoy during the event. Please drink responsibly and plan ahead for a safe ride home.
URL:https://so-me-district.com/event/some-concert-series-hudson-powder-co/
LOCATION:SO|ME Amp\, 1363 E Phenomenal St\, Meridian\, ID\, 83642\, United States
ATTACH;FMTTYPE=image/png:https://so-me-district.com/2021/wp-content/uploads/2026/02/Screenshot-2026-02-24-105120.png
END:VEVENT
END:VCALENDAR