BEGIN:VCALENDAR
VERSION:2.0
PRODID:-//SO ME District - ECPv6.13.2.1//NONSGML v1.0//EN
CALSCALE:GREGORIAN
METHOD:PUBLISH
X-ORIGINAL-URL:https://so-me-district.com
X-WR-CALDESC:Events for SO ME District
REFRESH-INTERVAL;VALUE=DURATION:PT1H
X-Robots-Tag:noindex
X-PUBLISHED-TTL:PT1H
BEGIN:VTIMEZONE
TZID:America/Denver
BEGIN:DAYLIGHT
TZOFFSETFROM:-0700
TZOFFSETTO:-0600
TZNAME:MDT
DTSTART:20260308T090000
END:DAYLIGHT
BEGIN:STANDARD
TZOFFSETFROM:-0600
TZOFFSETTO:-0700
TZNAME:MST
DTSTART:20261101T080000
END:STANDARD
END:VTIMEZONE
BEGIN:VEVENT
DTSTART;TZID=America/Denver:20260708T100000
DTEND;TZID=America/Denver:20260708T110000
DTSTAMP:20260419T103631
CREATED:20260312T215828Z
LAST-MODIFIED:20260312T215828Z
UID:2463-1783504800-1783508400@so-me-district.com
SUMMARY:Silly Song & Dance with Meridian Library District
DESCRIPTION:Sing\, dance\, and laugh to fun songs and stories. You will move your body and your voice to discover rhythm\, balance\, pitch\, volume\, and tempo. Join us for a Storytime focused on music\, singing\, dancing\, and early literacy.
URL:https://so-me-district.com/event/silly-song-dance-with-meridian-library-district/
LOCATION:SO|ME Amp\, 1363 E Phenomenal St\, Meridian\, ID\, 83642\, United States
ATTACH;FMTTYPE=image/png:https://so-me-district.com/2021/wp-content/uploads/2026/03/Screenshot-2026-03-12-154838.png
END:VEVENT
BEGIN:VEVENT
DTSTART;TZID=America/Denver:20260708T170000
DTEND;TZID=America/Denver:20260708T200000
DTSTAMP:20260419T103631
CREATED:20251204T200017Z
LAST-MODIFIED:20251204T200017Z
UID:2089-1783530000-1783540800@so-me-district.com
SUMMARY:SO|ME Market
DESCRIPTION:Discover local produce\, local vendors\, and handcrafted goods at the SO|ME Market at Pinnacle\, held every Wednesday from 5–8 p.m. Enjoy shopping\, community fun\, and seasonal activities for all ages.
URL:https://so-me-district.com/event/some-market-12/
LOCATION:SO|ME Amp\, 1363 E Phenomenal St\, Meridian\, ID\, 83642\, United States
ATTACH;FMTTYPE=image/jpeg:https://so-me-district.com/2021/wp-content/uploads/2025/12/Marketphoto13-scaled.jpeg
ORGANIZER;CN="SO|ME Market":MAILTO:Southmeridianmarket@brighton.co
END:VEVENT
BEGIN:VEVENT
DTSTART;TZID=America/Denver:20260708T183000
DTEND;TZID=America/Denver:20260708T200000
DTSTAMP:20260419T103631
CREATED:20260302T212043Z
LAST-MODIFIED:20260302T212043Z
UID:2335-1783535400-1783540800@so-me-district.com
SUMMARY:Rock N' Bingo (WIN PRIZES!)
DESCRIPTION:Come play Rock N’ Bingo with Game Night Live at the SO|ME Amp! \nThis Week’s Song Theme: Say My Name – Songs with – you guessed it – names in the title. “Ms. Jackson” and “Hey There\, Delilah” are on this list. \nWinner Prize: $50 to Ling & Louie’s 
URL:https://so-me-district.com/event/rock-n-bingo-win-prizes-2/
ATTACH;FMTTYPE=image/png:https://so-me-district.com/2021/wp-content/uploads/2025/09/Screenshot-2025-09-17-130957.png
END:VEVENT
END:VCALENDAR