BEGIN:VCALENDAR
VERSION:2.0
PRODID:-//SO ME District - ECPv6.13.2.1//NONSGML v1.0//EN
CALSCALE:GREGORIAN
METHOD:PUBLISH
X-ORIGINAL-URL:https://so-me-district.com
X-WR-CALDESC:Events for SO ME District
REFRESH-INTERVAL;VALUE=DURATION:PT1H
X-Robots-Tag:noindex
X-PUBLISHED-TTL:PT1H
BEGIN:VTIMEZONE
TZID:America/Denver
BEGIN:DAYLIGHT
TZOFFSETFROM:-0700
TZOFFSETTO:-0600
TZNAME:MDT
DTSTART:20260308T090000
END:DAYLIGHT
BEGIN:STANDARD
TZOFFSETFROM:-0600
TZOFFSETTO:-0700
TZNAME:MST
DTSTART:20261101T080000
END:STANDARD
END:VTIMEZONE
BEGIN:VEVENT
DTSTART;TZID=America/Denver:20260717T180000
DTEND;TZID=America/Denver:20260717T200000
DTSTAMP:20260419T103630
CREATED:20260302T212816Z
LAST-MODIFIED:20260302T213032Z
UID:2339-1784311200-1784318400@so-me-district.com
SUMMARY:SO|ME Concert Series: Stef & the Groove
DESCRIPTION:Live at the SO|ME Amp: Stef and the Groove! \nThis event is BYOB (Bring Your Own Beverage). Guests are welcome to bring their own drinks to enjoy during the event. Please drink responsibly and plan ahead for a safe ride home.
URL:https://so-me-district.com/event/some-concert-series-stef-and-the-groove/
LOCATION:SO|ME Amp\, 1363 E Phenomenal St\, Meridian\, ID\, 83642\, United States
ATTACH;FMTTYPE=image/png:https://so-me-district.com/2021/wp-content/uploads/2026/03/Screenshot-2026-03-02-142544.png
END:VEVENT
END:VCALENDAR