BEGIN:VCALENDAR
VERSION:2.0
PRODID:-//SO ME District - ECPv6.13.2.1//NONSGML v1.0//EN
CALSCALE:GREGORIAN
METHOD:PUBLISH
X-ORIGINAL-URL:https://so-me-district.com
X-WR-CALDESC:Events for SO ME District
REFRESH-INTERVAL;VALUE=DURATION:PT1H
X-Robots-Tag:noindex
X-PUBLISHED-TTL:PT1H
BEGIN:VTIMEZONE
TZID:America/Denver
BEGIN:DAYLIGHT
TZOFFSETFROM:-0700
TZOFFSETTO:-0600
TZNAME:MDT
DTSTART:20260308T090000
END:DAYLIGHT
BEGIN:STANDARD
TZOFFSETFROM:-0600
TZOFFSETTO:-0700
TZNAME:MST
DTSTART:20261101T080000
END:STANDARD
END:VTIMEZONE
BEGIN:VEVENT
DTSTART;TZID=America/Denver:20260722T100000
DTEND;TZID=America/Denver:20260722T110000
DTSTAMP:20260419T103624
CREATED:20260312T220102Z
LAST-MODIFIED:20260312T220102Z
UID:2467-1784714400-1784718000@so-me-district.com
SUMMARY:Silly Song & Dance Storytime with Meridian Library District
DESCRIPTION:Sing\, dance\, and laugh to fun songs and stories. You will move your body and your voice to discover rhythm\, balance\, pitch\, volume\, and tempo. Join us for a Storytime focused on music\, singing\, dancing\, and early literacy.
URL:https://so-me-district.com/event/silly-song-dance-storytime-with-meridian-library-district-6/
LOCATION:SO|ME Amp\, 1363 E Phenomenal St\, Meridian\, ID\, 83642\, United States
ATTACH;FMTTYPE=image/png:https://so-me-district.com/2021/wp-content/uploads/2026/03/Screenshot-2026-03-12-154838.png
END:VEVENT
BEGIN:VEVENT
DTSTART;TZID=America/Denver:20260722T170000
DTEND;TZID=America/Denver:20260722T200000
DTSTAMP:20260419T103624
CREATED:20251204T200228Z
LAST-MODIFIED:20251204T200228Z
UID:2095-1784739600-1784750400@so-me-district.com
SUMMARY:SO|ME Market
DESCRIPTION:Discover local produce\, local vendors\, and handcrafted goods at the SO|ME Market at Pinnacle\, held every Wednesday from 5–8 p.m. Enjoy shopping\, community fun\, and seasonal activities for all ages.
URL:https://so-me-district.com/event/some-market-14/
LOCATION:SO|ME Amp\, 1363 E Phenomenal St\, Meridian\, ID\, 83642\, United States
ATTACH;FMTTYPE=image/jpeg:https://so-me-district.com/2021/wp-content/uploads/2025/12/Marketphoto15.jpg
ORGANIZER;CN="SO|ME Market":MAILTO:Southmeridianmarket@brighton.co
END:VEVENT
BEGIN:VEVENT
DTSTART;TZID=America/Denver:20260722T170000
DTEND;TZID=America/Denver:20260722T200000
DTSTAMP:20260419T103624
CREATED:20260302T213515Z
LAST-MODIFIED:20260302T213539Z
UID:2345-1784739600-1784750400@so-me-district.com
SUMMARY:Meridian Library Presents: Touch-a-Truck
DESCRIPTION:Join the Meridian Library for a evening of hands- on fun!
URL:https://so-me-district.com/event/meridian-library-presents-touch-a-truck/
LOCATION:SO|ME Amp\, 1363 E Phenomenal St\, Meridian\, ID\, 83642\, United States
ATTACH;FMTTYPE=image/jpeg:https://so-me-district.com/2021/wp-content/uploads/2026/03/AdobeStock_46917456-scaled.jpeg
END:VEVENT
END:VCALENDAR