BEGIN:VCALENDAR
VERSION:2.0
PRODID:-//SO ME District - ECPv6.13.2.1//NONSGML v1.0//EN
CALSCALE:GREGORIAN
METHOD:PUBLISH
X-ORIGINAL-URL:https://so-me-district.com
X-WR-CALDESC:Events for SO ME District
REFRESH-INTERVAL;VALUE=DURATION:PT1H
X-Robots-Tag:noindex
X-PUBLISHED-TTL:PT1H
BEGIN:VTIMEZONE
TZID:America/Denver
BEGIN:DAYLIGHT
TZOFFSETFROM:-0700
TZOFFSETTO:-0600
TZNAME:MDT
DTSTART:20260308T090000
END:DAYLIGHT
BEGIN:STANDARD
TZOFFSETFROM:-0600
TZOFFSETTO:-0700
TZNAME:MST
DTSTART:20261101T080000
END:STANDARD
END:VTIMEZONE
BEGIN:VEVENT
DTSTART;TZID=America/Denver:20260819T170000
DTEND;TZID=America/Denver:20260819T200000
DTSTAMP:20260419T122600
CREATED:20260106T172841Z
LAST-MODIFIED:20260106T172841Z
UID:2159-1787158800-1787169600@so-me-district.com
SUMMARY:SO|ME Market
DESCRIPTION:Discover local produce\, local vendors\, and handcrafted goods at the SO|ME Market at Pinnacle\, held every Wednesday from 5–8 p.m. Enjoy shopping\, community fun\, and seasonal activities for all ages.
URL:https://so-me-district.com/event/some-market-18/
LOCATION:SO|ME Amp\, 1363 E Phenomenal St\, Meridian\, ID\, 83642\, United States
ATTACH;FMTTYPE=image/jpeg:https://so-me-district.com/2021/wp-content/uploads/2026/01/Marketphoto8-scaled.jpg
END:VEVENT
BEGIN:VEVENT
DTSTART;TZID=America/Denver:20260819T180000
DTEND;TZID=America/Denver:20260819T200000
DTSTAMP:20260419T122600
CREATED:20260302T220024Z
LAST-MODIFIED:20260304T173009Z
UID:2359-1787162400-1787169600@so-me-district.com
SUMMARY:SO|ME Concert Series: The Traveler
DESCRIPTION:Catch The traveler live at the SO|ME Amp as apart of the SO|ME Concert Series! \nAlcoholic beverages will be available for purchase on-site through a licensed third-party vendor\, so we kindly ask that guests do not bring outside alcohol to the event. Non-alcoholic beverages\, snacks\, and other concessions will be available at the SO|ME Amp concessions booth.
URL:https://so-me-district.com/event/some-concert-series-the-traveler/
LOCATION:SO|ME Amp\, 1363 E Phenomenal St\, Meridian\, ID\, 83642\, United States
ATTACH;FMTTYPE=image/png:https://so-me-district.com/2021/wp-content/uploads/2026/03/Screenshot-2026-03-02-145916.png
END:VEVENT
END:VCALENDAR