BEGIN:VCALENDAR
VERSION:2.0
PRODID:-//SO ME District - ECPv6.13.2.1//NONSGML v1.0//EN
CALSCALE:GREGORIAN
METHOD:PUBLISH
X-ORIGINAL-URL:https://so-me-district.com
X-WR-CALDESC:Events for SO ME District
REFRESH-INTERVAL;VALUE=DURATION:PT1H
X-Robots-Tag:noindex
X-PUBLISHED-TTL:PT1H
BEGIN:VTIMEZONE
TZID:America/Denver
BEGIN:DAYLIGHT
TZOFFSETFROM:-0700
TZOFFSETTO:-0600
TZNAME:MDT
DTSTART:20260308T090000
END:DAYLIGHT
BEGIN:STANDARD
TZOFFSETFROM:-0600
TZOFFSETTO:-0700
TZNAME:MST
DTSTART:20261101T080000
END:STANDARD
END:VTIMEZONE
BEGIN:VEVENT
DTSTART;TZID=America/Denver:20261114T100000
DTEND;TZID=America/Denver:20261114T140000
DTSTAMP:20260419T191132
CREATED:20260106T174709Z
LAST-MODIFIED:20260106T174709Z
UID:2181-1794650400-1794664800@so-me-district.com
SUMMARY:SO|ME Winter Market
DESCRIPTION:Celebrate the season with us at our Winter Market\, a festive day full of holiday cheer and community spirit. Enjoy Stories with Santa\, shop unique gifts and handmade goods\, and savor delicious bites. The day will feature live music\, warm drinks\, and plenty of holiday magic for the whole family. \nFree and open to all—come support local young makers and kick off the winter season in style.
URL:https://so-me-district.com/event/some-winter-market/
ATTACH;FMTTYPE=image/jpeg:https://so-me-district.com/2021/wp-content/uploads/2026/01/WinterMarket1.jpg
END:VEVENT
END:VCALENDAR