BEGIN:VCALENDAR
VERSION:2.0
PRODID:-//SO ME District - ECPv6.13.2.1//NONSGML v1.0//EN
CALSCALE:GREGORIAN
METHOD:PUBLISH
X-WR-CALNAME:SO ME District
X-ORIGINAL-URL:https://so-me-district.com
X-WR-CALDESC:Events for SO ME District
REFRESH-INTERVAL;VALUE=DURATION:PT1H
X-Robots-Tag:noindex
X-PUBLISHED-TTL:PT1H
BEGIN:VTIMEZONE
TZID:America/Denver
BEGIN:DAYLIGHT
TZOFFSETFROM:-0700
TZOFFSETTO:-0600
TZNAME:MDT
DTSTART:20250309T090000
END:DAYLIGHT
BEGIN:STANDARD
TZOFFSETFROM:-0600
TZOFFSETTO:-0700
TZNAME:MST
DTSTART:20251102T080000
END:STANDARD
BEGIN:DAYLIGHT
TZOFFSETFROM:-0700
TZOFFSETTO:-0600
TZNAME:MDT
DTSTART:20260308T090000
END:DAYLIGHT
BEGIN:STANDARD
TZOFFSETFROM:-0600
TZOFFSETTO:-0700
TZNAME:MST
DTSTART:20261101T080000
END:STANDARD
END:VTIMEZONE
BEGIN:VTIMEZONE
TZID:UTC
BEGIN:STANDARD
TZOFFSETFROM:+0000
TZOFFSETTO:+0000
TZNAME:UTC
DTSTART:20250101T000000
END:STANDARD
END:VTIMEZONE
BEGIN:VEVENT
DTSTART;TZID=America/Denver:20260415T170000
DTEND;TZID=America/Denver:20260415T200000
DTSTAMP:20260419T103813
CREATED:20251204T194312Z
LAST-MODIFIED:20260414T194121Z
UID:2052-1776272400-1776283200@so-me-district.com
SUMMARY:CANCELLED DUE TO WEATHER! SO|ME Market Kick-Off!
DESCRIPTION:Discover local produce\, local vendors\, and handcrafted goods at the SO|ME Market at Pinnacle\, held every Wednesday from 5–8 p.m. Enjoy shopping\, community fun\, and seasonal activities for all ages.
URL:https://so-me-district.com/event/some-market-kick-off/
LOCATION:SO|ME Amp\, 1363 E Phenomenal St\, Meridian\, ID\, 83642\, United States
ATTACH;FMTTYPE=image/jpeg:https://so-me-district.com/2021/wp-content/uploads/2025/12/Marketphoto1.jpg
ORGANIZER;CN="SO|ME Market":MAILTO:Southmeridianmarket@brighton.co
END:VEVENT
BEGIN:VEVENT
DTSTART;TZID=America/Denver:20260328T100000
DTEND;TZID=America/Denver:20260328T120000
DTSTAMP:20260419T103814
CREATED:20260209T203939Z
LAST-MODIFIED:20260209T203939Z
UID:2216-1774692000-1774699200@so-me-district.com
SUMMARY:Easter Egg Hunt
DESCRIPTION:Free Easter Egg Hunt at SO|ME AmpHop on over to the SO|ME Amp for a free\, family-friendly Easter Egg Hunt! Enjoy egg hunting fun\, face painting\, Easter crafts\, and Egg-lympic games with prizes\, plus live music throughout the event. Bring your baskets and celebrate spring with us at this fun community gathering!
URL:https://so-me-district.com/event/easter-egg-hunt/
LOCATION:SO|ME Amp\, 1363 E Phenomenal St\, Meridian\, ID\, 83642\, United States
ATTACH;FMTTYPE=image/png:https://so-me-district.com/2021/wp-content/uploads/2026/02/SOME-EASTER-EGG-HUNT.png
END:VEVENT
BEGIN:VEVENT
DTSTART;TZID=America/Denver:20251115T100000
DTEND;TZID=America/Denver:20251115T140000
DTSTAMP:20260419T103814
CREATED:20251021T190903Z
LAST-MODIFIED:20251030T223651Z
UID:2017-1763200800-1763215200@so-me-district.com
SUMMARY:Winter Market & Stories with Santa
DESCRIPTION:Celebrate the season with us at our Winter Market\, a festive day full of holiday cheer and community spirit. Enjoy Stories with Santa\, shop unique gifts and handmade goods at our Children’s Entrepreneur Market\, and savor delicious bites from local food trucks. The day will feature live music\, warm drinks\, and plenty of holiday magic for the whole family. \nFree and open to all—come support local young makers and kick off the winter season in style. \n\nWant to be a vendor? Register here: https://marketspread.com/market/25219/some-pinnacle-farmers-market/#
URL:https://so-me-district.com/event/winter-market-stories-with-santa/
LOCATION:SO|ME Amp\, 1363 E Phenomenal St\, Meridian\, ID\, 83642\, United States
ATTACH;FMTTYPE=image/png:https://so-me-district.com/2021/wp-content/uploads/2025/10/marketingflyer1.png
END:VEVENT
BEGIN:VEVENT
DTSTART;TZID=America/Denver:20251024T180000
DTEND;TZID=America/Denver:20251024T220000
DTSTAMP:20260419T103814
CREATED:20250917T205829Z
LAST-MODIFIED:20251021T191009Z
UID:1876-1761328800-1761343200@so-me-district.com
SUMMARY:Back-to-Back Live Music Night
DESCRIPTION:Enjoy an evening of great music with Jesse Niebolt performing live from 6:00–7:30pm\, followed by Payette from 8:00–9:30pm. \nTrunk-or-Treat will be happening alongside the music\, so bring the whole family for a night of tunes\, treats\, and community fun!
URL:https://so-me-district.com/event/live-music-night-details-coming-soon/
LOCATION:SO|ME Amp\, 1363 E Phenomenal St\, Meridian\, ID\, 83642\, United States
ATTACH;FMTTYPE=image/png:https://so-me-district.com/2021/wp-content/uploads/2025/09/Untitled-design-3.png
END:VEVENT
BEGIN:VEVENT
DTSTART;TZID=America/Denver:20251024T180000
DTEND;TZID=America/Denver:20251024T200000
DTSTAMP:20260419T103814
CREATED:20250917T210517Z
LAST-MODIFIED:20251021T185556Z
UID:1878-1761328800-1761336000@so-me-district.com
SUMMARY:1st Annual Community Trunk-or-Treat Event!
DESCRIPTION:A Safe & Spooktacular Community Event featuring loads of candy\, a food truck\, beverages\, live music\, face painting\, and more!
URL:https://so-me-district.com/event/trunk-or-treat/
LOCATION:SO|ME Amp\, 1363 E Phenomenal St\, Meridian\, ID\, 83642\, United States
ATTACH;FMTTYPE=image/jpeg:https://so-me-district.com/2021/wp-content/uploads/2025/09/Trunk-or-Treat-4-x-5-in.jpg
END:VEVENT
BEGIN:VEVENT
DTSTART;TZID=America/Denver:20251022T180000
DTEND;TZID=America/Denver:20251022T200000
DTSTAMP:20260419T103814
CREATED:20250923T224452Z
LAST-MODIFIED:20250929T210200Z
UID:1887-1761156000-1761163200@so-me-district.com
SUMMARY:Halloween Paint Night
DESCRIPTION:Join us on Tuesday\, October 22\, for a fun and creative evening led by The Angry Easel! Enjoy delicious drinks from Homegrown and grab a bite from the onsite food truck while you paint the night away. \n✨ Please note: Outside alcoholic beverages are not permitted—thank you for your cooperation. \nTickets: https://www.eventbrite.com/e/halloween-paint-night-at-the-some-amp-tickets-1755032492429?utm-campaign=social&utm-content=attendeeshare&utm-medium=discovery&utm-term=listing&utm-source=cp&aff=ebdsshcopyurl
URL:https://so-me-district.com/event/halloween-paint-night/
LOCATION:SO|ME Amp\, 1363 E Phenomenal St\, Meridian\, ID\, 83642\, United States
ATTACH;FMTTYPE=image/jpeg:https://so-me-district.com/2021/wp-content/uploads/2025/09/IMG_3695.jpeg
END:VEVENT
BEGIN:VEVENT
DTSTART;TZID=America/Denver:20251022T170000
DTEND;TZID=America/Denver:20251022T200000
DTSTAMP:20260419T103814
CREATED:20250624T011928Z
LAST-MODIFIED:20250714T223052Z
UID:1576-1761152400-1761163200@so-me-district.com
SUMMARY:SO|ME Market
DESCRIPTION:Midweek magic\, made local \nThe SO|ME Market brings together makers\, food trucks\, artisan goods\, and live vibes—every 2nd & 4th Wednesday\, April through October. It’s your go-to for good eats\, unique finds\, and neighborhood fun\, all in one vibrant outdoor spot. Come shop\, stroll\, and soak it in! \nSee Full Market Lineup
URL:https://so-me-district.com/event/some-market-october-22/
LOCATION:SO|ME Amp\, 1363 E Phenomenal St\, Meridian\, ID\, 83642\, United States
ATTACH;FMTTYPE=image/png:https://so-me-district.com/2021/wp-content/uploads/2025/06/Website-Event-Photos.png
END:VEVENT
BEGIN:VEVENT
DTSTART;TZID=America/Denver:20251021T174500
DTEND;TZID=America/Denver:20251021T184500
DTSTAMP:20260419T103814
CREATED:20250925T212152Z
LAST-MODIFIED:20250925T212152Z
UID:1895-1761068700-1761072300@so-me-district.com
SUMMARY:Fall Yoga Series
DESCRIPTION:Join us for a relaxing evening of Yoga Flow brought to you by Yoga6 Nampa. Free to attend\, and all ages welcome\, just bring your own mat. Namaste! \n  \nGates open at 5:30pm
URL:https://so-me-district.com/event/fall-yoga-series-3/
LOCATION:SO|ME Amp\, 1363 E Phenomenal St\, Meridian\, ID\, 83642\, United States
ATTACH;FMTTYPE=image/jpeg:https://so-me-district.com/2021/wp-content/uploads/2025/07/Image-scaled.jpg
END:VEVENT
BEGIN:VEVENT
DTSTART;TZID=America/Denver:20251017T180000
DTEND;TZID=America/Denver:20251017T200000
DTSTAMP:20260419T103814
CREATED:20250903T202340Z
LAST-MODIFIED:20250903T202340Z
UID:1852-1760724000-1760731200@so-me-district.com
SUMMARY:HomeGrown Tavern LLC
DESCRIPTION:HomeGrown Tavern LLC will be on site for fresh cocktails\, mocktails\, and refreshing evening drinks! \n  \nWe kindly ask that you leave outside alcohol at home—refreshments are available at the venue.
URL:https://so-me-district.com/event/homegrown-tavern-llc-6/
LOCATION:SO|ME Amp\, 1363 E Phenomenal St\, Meridian\, ID\, 83642\, United States
ATTACH;FMTTYPE=image/jpeg:https://so-me-district.com/2021/wp-content/uploads/2025/08/SO_ME_Market_07-23-25_052.jpg
END:VEVENT
BEGIN:VEVENT
DTSTART;TZID=America/Denver:20251017T180000
DTEND;TZID=America/Denver:20251017T200000
DTSTAMP:20260419T103814
CREATED:20250829T172826Z
LAST-MODIFIED:20250829T172826Z
UID:1833-1760724000-1760731200@so-me-district.com
SUMMARY:Live Music at the Amp: Avery Soloaga
DESCRIPTION:The SO|ME Amp is proud to present live musical stylings from Avery Soloaga\, please join us for a fun evening of free live music!
URL:https://so-me-district.com/event/live-music-at-the-amp-avery-soloaga/
LOCATION:SO|ME Amp\, 1363 E Phenomenal St\, Meridian\, ID\, 83642\, United States
ATTACH;FMTTYPE=image/jpeg:https://so-me-district.com/2021/wp-content/uploads/2025/08/Picture1.jpg
END:VEVENT
BEGIN:VEVENT
DTSTART;TZID=America/Denver:20251017T180000
DTEND;TZID=America/Denver:20251017T193000
DTSTAMP:20260419T103814
CREATED:20251013T190756Z
LAST-MODIFIED:20251013T190756Z
UID:1998-1760724000-1760729400@so-me-district.com
SUMMARY:Food Truck: Walkin' Takos
DESCRIPTION:Support you local food truck! Come see your favorite walking taco food truck\, Walkin’ Takos!
URL:https://so-me-district.com/event/food-truck-walkin-takos/
LOCATION:SO|ME Amp\, 1363 E Phenomenal St\, Meridian\, ID\, 83642\, United States
ATTACH;FMTTYPE=image/jpeg:https://so-me-district.com/2021/wp-content/uploads/2025/10/SO_ME_Market_07-23-25_045.jpg
END:VEVENT
BEGIN:VEVENT
DTSTART;TZID=America/Denver:20251017T060000
DTEND;TZID=America/Denver:20251017T110000
DTSTAMP:20260419T103814
CREATED:20250929T181457Z
LAST-MODIFIED:20250929T181457Z
UID:1929-1760680800-1760698800@so-me-district.com
SUMMARY:Wild Things Coffee Co.
DESCRIPTION:Catch the Wild Things Coffee Co. mobile coffee trailer at the SO|ME Amp every Wednesday-Friday in October 6am-11am!
URL:https://so-me-district.com/event/wild-things-coffee-co-9/
LOCATION:SO|ME Amp\, 1363 E Phenomenal St\, Meridian\, ID\, 83642\, United States
ATTACH;FMTTYPE=image/png:https://so-me-district.com/2021/wp-content/uploads/2025/09/WildThings.png
END:VEVENT
BEGIN:VEVENT
DTSTART;TZID=America/Denver:20251016T060000
DTEND;TZID=America/Denver:20251016T110000
DTSTAMP:20260419T103814
CREATED:20250929T181341Z
LAST-MODIFIED:20250929T181341Z
UID:1927-1760594400-1760612400@so-me-district.com
SUMMARY:Wild Things Coffee Co.
DESCRIPTION:Catch the Wild Things Coffee Co. mobile coffee trailer at the SO|ME Amp every Wednesday-Friday in October 6am-11am!
URL:https://so-me-district.com/event/wild-things-coffee-co-8/
LOCATION:SO|ME Amp\, 1363 E Phenomenal St\, Meridian\, ID\, 83642\, United States
ATTACH;FMTTYPE=image/png:https://so-me-district.com/2021/wp-content/uploads/2025/09/WildThings.png
END:VEVENT
BEGIN:VEVENT
DTSTART;TZID=America/Denver:20251015T060000
DTEND;TZID=America/Denver:20251015T110000
DTSTAMP:20260419T103814
CREATED:20250929T181251Z
LAST-MODIFIED:20250929T181251Z
UID:1925-1760508000-1760526000@so-me-district.com
SUMMARY:Wild Things Coffee Co.
DESCRIPTION:Catch the Wild Things Coffee Co. mobile coffee trailer at the SO|ME Amp every Wednesday-Friday in October 6am-11am!
URL:https://so-me-district.com/event/wild-things-coffee-co-7/
LOCATION:SO|ME Amp\, 1363 E Phenomenal St\, Meridian\, ID\, 83642\, United States
ATTACH;FMTTYPE=image/png:https://so-me-district.com/2021/wp-content/uploads/2025/09/WildThings.png
END:VEVENT
BEGIN:VEVENT
DTSTART;TZID=America/Denver:20251014T174500
DTEND;TZID=America/Denver:20251014T184500
DTSTAMP:20260419T103814
CREATED:20250925T212058Z
LAST-MODIFIED:20251014T185731Z
UID:1893-1760463900-1760467500@so-me-district.com
SUMMARY:CANCELLED 10/14: Fall Yoga Series
DESCRIPTION:Class cancelled due to cold and wet conditions\, see you next week!
URL:https://so-me-district.com/event/fall-yoga-series-2/
LOCATION:SO|ME Amp\, 1363 E Phenomenal St\, Meridian\, ID\, 83642\, United States
ATTACH;FMTTYPE=image/jpeg:https://so-me-district.com/2021/wp-content/uploads/2025/07/Image-1-scaled.jpg
END:VEVENT
BEGIN:VEVENT
DTSTART;TZID=America/Denver:20251010T180000
DTEND;TZID=America/Denver:20251010T200000
DTSTAMP:20260419T103814
CREATED:20250925T212554Z
LAST-MODIFIED:20250925T212554Z
UID:1900-1760119200-1760126400@so-me-district.com
SUMMARY:HomeGrown Tavern LLC
DESCRIPTION:HomeGrown Tavern LLC will be on site for fresh cocktails\, mocktails\, and refreshing evening drinks! \n  \nWe kindly ask that you leave outside alcohol at home—refreshments are available at the venue.
URL:https://so-me-district.com/event/homegrown-tavern-llc-7/
LOCATION:SO|ME Amp\, 1363 E Phenomenal St\, Meridian\, ID\, 83642\, United States
ATTACH;FMTTYPE=image/jpeg:https://so-me-district.com/2021/wp-content/uploads/2025/08/SO_ME_Market_07-23-25_052.jpg
END:VEVENT
BEGIN:VEVENT
DTSTART;TZID=America/Denver:20251010T180000
DTEND;TZID=America/Denver:20251010T200000
DTSTAMP:20260419T103814
CREATED:20250911T214229Z
LAST-MODIFIED:20250911T214229Z
UID:1869-1760119200-1760126400@so-me-district.com
SUMMARY:Live Music: The Soulmates
DESCRIPTION:Live at the SO|ME Amp\, The Soulmates! Join us Friday\, October 10th from 6-8pm for an evening of live music!
URL:https://so-me-district.com/event/live-music-the-soulmates/
LOCATION:SO|ME Amp\, 1363 E Phenomenal St\, Meridian\, ID\, 83642\, United States
ATTACH;FMTTYPE=image/jpeg:https://so-me-district.com/2021/wp-content/uploads/2025/09/photo.jpg
END:VEVENT
BEGIN:VEVENT
DTSTART;TZID=America/Denver:20251010T060000
DTEND;TZID=America/Denver:20251010T110000
DTSTAMP:20260419T103814
CREATED:20250929T181201Z
LAST-MODIFIED:20250929T181201Z
UID:1923-1760076000-1760094000@so-me-district.com
SUMMARY:Wild Things Coffee Co.
DESCRIPTION:Catch the Wild Things Coffee Co. mobile coffee trailer at the SO|ME Amp every Wednesday-Friday in October 6am-11am!
URL:https://so-me-district.com/event/wild-things-coffee-co-6/
LOCATION:SO|ME Amp\, 1363 E Phenomenal St\, Meridian\, ID\, 83642\, United States
ATTACH;FMTTYPE=image/png:https://so-me-district.com/2021/wp-content/uploads/2025/09/WildThings.png
END:VEVENT
BEGIN:VEVENT
DTSTART;TZID=America/Denver:20251009T060000
DTEND;TZID=America/Denver:20251009T110000
DTSTAMP:20260419T103814
CREATED:20250929T181057Z
LAST-MODIFIED:20250929T181057Z
UID:1921-1759989600-1760007600@so-me-district.com
SUMMARY:Wild Things Coffee Co.
DESCRIPTION:Catch the Wild Things Coffee Co. mobile coffee trailer at the SO|ME Amp every Wednesday-Friday in October 6am-11am!
URL:https://so-me-district.com/event/wild-things-coffee-co-5/
LOCATION:SO|ME Amp\, 1363 E Phenomenal St\, Meridian\, ID\, 83642\, United States
ATTACH;FMTTYPE=image/png:https://so-me-district.com/2021/wp-content/uploads/2025/09/WildThings.png
END:VEVENT
BEGIN:VEVENT
DTSTART;TZID=America/Denver:20251008T180000
DTEND;TZID=America/Denver:20251008T200000
DTSTAMP:20260419T103814
CREATED:20250929T164608Z
LAST-MODIFIED:20251007T175902Z
UID:1908-1759946400-1759953600@so-me-district.com
SUMMARY:Music Bingo with Game Night Live
DESCRIPTION:Join us for a fun-filled evening of Music Bingo\, hosted by Game Night Live! Test your music knowledge\, win exciting prizes\, and enjoy the lively atmosphere. While you play\, explore the SO|ME Market happening at the same time—perfect for shopping\, snacking\, and soaking in the community vibe!
URL:https://so-me-district.com/event/music-bingo-with-game-night-live/
LOCATION:SO|ME Amp\, 1363 E Phenomenal St\, Meridian\, ID\, 83642\, United States
ATTACH;FMTTYPE=image/png:https://so-me-district.com/2021/wp-content/uploads/2025/09/Screenshot-2025-10-07-115753.png
END:VEVENT
BEGIN:VEVENT
DTSTART;TZID=America/Denver:20251008T170000
DTEND;TZID=America/Denver:20251008T200000
DTSTAMP:20260419T103814
CREATED:20250624T011823Z
LAST-MODIFIED:20250714T223112Z
UID:1574-1759942800-1759953600@so-me-district.com
SUMMARY:SO|ME Market
DESCRIPTION:Midweek magic\, made local \nThe SO|ME Market brings together makers\, food trucks\, artisan goods\, and live vibes—every 2nd & 4th Wednesday\, April through October. It’s your go-to for good eats\, unique finds\, and neighborhood fun\, all in one vibrant outdoor spot. Come shop\, stroll\, and soak it in! \nSee Full Market Lineup
URL:https://so-me-district.com/event/some-market-october-8/
LOCATION:SO|ME Amp\, 1363 E Phenomenal St\, Meridian\, ID\, 83642\, United States
ATTACH;FMTTYPE=image/png:https://so-me-district.com/2021/wp-content/uploads/2025/06/Website-Event-Photos.png
END:VEVENT
BEGIN:VEVENT
DTSTART;TZID=America/Denver:20251008T060000
DTEND;TZID=America/Denver:20251008T110000
DTSTAMP:20260419T103814
CREATED:20250929T180956Z
LAST-MODIFIED:20250929T180956Z
UID:1919-1759903200-1759921200@so-me-district.com
SUMMARY:Wild Things Coffee Co.
DESCRIPTION:Catch the Wild Things Coffee Co. mobile coffee trailer at the SO|ME Amp every Wednesday-Friday in October 6am-11am!
URL:https://so-me-district.com/event/wild-things-coffee-co-4/
LOCATION:SO|ME Amp\, 1363 E Phenomenal St\, Meridian\, ID\, 83642\, United States
ATTACH;FMTTYPE=image/png:https://so-me-district.com/2021/wp-content/uploads/2025/09/WildThings.png
END:VEVENT
BEGIN:VEVENT
DTSTART;TZID=America/Denver:20251007T174500
DTEND;TZID=America/Denver:20251007T184500
DTSTAMP:20260419T103814
CREATED:20250925T212001Z
LAST-MODIFIED:20250925T212001Z
UID:1890-1759859100-1759862700@so-me-district.com
SUMMARY:Fall Yoga Series
DESCRIPTION:Join us for a relaxing evening of Yoga Flow brought to you by Yoga6 Nampa. Free to attend\, and all ages welcome\, just bring your own mat. Namaste! \n  \nGates open at 5:30pm
URL:https://so-me-district.com/event/fall-yoga-series/
LOCATION:SO|ME Amp\, 1363 E Phenomenal St\, Meridian\, ID\, 83642\, United States
ATTACH;FMTTYPE=image/jpeg:https://so-me-district.com/2021/wp-content/uploads/2025/07/Image-scaled.jpg
END:VEVENT
BEGIN:VEVENT
DTSTART;TZID=America/Denver:20251002T160000
DTEND;TZID=America/Denver:20251002T200000
DTSTAMP:20260419T103814
CREATED:20250701T222104Z
LAST-MODIFIED:20250814T194021Z
UID:1626-1759420800-1759435200@so-me-district.com
SUMMARY:Buy Idaho's Fall Annual Reception
DESCRIPTION:Join Buy Idaho at the SO|ME Amp for an unforgettable evening as we celebrate Buy Idaho’s 39th anniversary of opening doors for local businesses across the state! \nThis year’s celebration is all about supporting the full circle of business success—from housing to entrepreneurship\, community connection to economic growth. Because when Idahoans have a place to live\, they have a place to thrive—and so do their businesses. \nThe festivities begin at 4:00 PM with a marketplace of Idaho vendors\, offering everything from unique local products to valuable services. \nAt 4:30 PM\, the spotlight turns to Buy Idaho updates\, success stories\, board elections\, awards\, and an exciting raffle (members can still donate prizes—no gift is too small!). \nThen at 6:00 PM\, we shift into celebration mode with live music\, food\, drinks\, shopping\, and a whole lot of local pride. \nBring a low-back chair or a blanket and spread out on the lawn for a perfect Idaho summer evening. \nWhether you’re enjoying the sounds\, connecting with friends\, or supporting Idaho’s homegrown talent\, this event is a reminder that strong communities\, stable housing\, and thriving small businesses are all connected. \nTickets are available now for food and beverage packages\, sponsor tables\, and vendor booths. For raffle donations or more information\, email info@buyidaho.org. \nLet’s come together to eat\, drink\, connect—and keep opening doors for Idaho’s future.
URL:https://so-me-district.com/event/private-event-amp-closed/
LOCATION:ID
ATTACH;FMTTYPE=image/png:https://so-me-district.com/2021/wp-content/uploads/2025/07/BuyIdahoReceptionFlyer.png
ORGANIZER;CN="Buy Idaho":MAILTO:info@buyidaho.org
END:VEVENT
BEGIN:VEVENT
DTSTART;TZID=UTC:20251001T180000
DTEND;TZID=UTC:20251001T200000
DTSTAMP:20260419T103814
CREATED:20250624T040914Z
LAST-MODIFIED:20250925T212346Z
UID:1607-1759341600-1759348800@so-me-district.com
SUMMARY:Trivia Night
DESCRIPTION:Get your crew together for Trivia Night at The SO|ME Amp\, hosted by Game Night Live—an interactive\, high-energy evening packed with clever questions\, quirky challenges\, and good vibes. It’s free to play\, fun to win\, and easy to join in. \nPlease feel free to bring your own food and beverages!
URL:https://so-me-district.com/event/trivia-night-3/
LOCATION:ID
ATTACH;FMTTYPE=image/jpeg:https://so-me-district.com/2021/wp-content/uploads/2025/06/AdobeStock_500107817-scaled.jpeg
END:VEVENT
BEGIN:VEVENT
DTSTART;TZID=America/Denver:20250926T170000
DTEND;TZID=America/Denver:20250926T220000
DTSTAMP:20260419T103814
CREATED:20250814T195355Z
LAST-MODIFIED:20250814T195355Z
UID:1815-1758906000-1758924000@so-me-district.com
SUMMARY:Pinnacle Resident Private Event
DESCRIPTION:Pinnacle Residents- Stay Tuned for more details for an exclusive event- just for you!! Brought to you by Pinnacle Lifestyle.
URL:https://so-me-district.com/event/pinnacle-resident-private-event/
LOCATION:ID
ATTACH;FMTTYPE=image/png:https://so-me-district.com/2021/wp-content/uploads/2025/06/Private-event.png
END:VEVENT
BEGIN:VEVENT
DTSTART;TZID=America/Denver:20250924T180000
DTEND;TZID=America/Denver:20250924T200000
DTSTAMP:20260419T103814
CREATED:20250917T191126Z
LAST-MODIFIED:20250917T191126Z
UID:1872-1758736800-1758744000@so-me-district.com
SUMMARY:Music Bingo!
DESCRIPTION:Join Game Night Live at the SO|ME Amp for Music Bingo! The theme? “Oldies but Goodies” + “One Hit Wonders” \n  \n2 rounds\, 1 winning team per round. Prizes are SO|ME Market Dollars to use at the remaining SO|ME Markets of 2025. \n  \nSee you there!
URL:https://so-me-district.com/event/music-bingo/
LOCATION:SO|ME Amp\, 1363 E Phenomenal St\, Meridian\, ID\, 83642\, United States
ATTACH;FMTTYPE=image/png:https://so-me-district.com/2021/wp-content/uploads/2025/09/Screenshot-2025-09-17-130957.png
END:VEVENT
BEGIN:VEVENT
DTSTART;TZID=America/Denver:20250924T170000
DTEND;TZID=America/Denver:20250924T200000
DTSTAMP:20260419T103814
CREATED:20250724T184951Z
LAST-MODIFIED:20250804T170713Z
UID:1740-1758733200-1758744000@so-me-district.com
SUMMARY:Pumpkin Trailer
DESCRIPTION:The Pumpkin Trailer is popping up at The SO|ME Market on 9/24! Stop by for fall vibes\, festive treats\, and fun.
URL:https://so-me-district.com/event/pumpkin-trailer/
LOCATION:SO|ME Amp\, 1363 E Phenomenal St\, Meridian\, ID\, 83642\, United States
ATTACH;FMTTYPE=image/jpeg:https://so-me-district.com/2021/wp-content/uploads/2025/07/AdobeStock_250852105_Preview.jpeg
END:VEVENT
BEGIN:VEVENT
DTSTART;TZID=America/Denver:20250924T170000
DTEND;TZID=America/Denver:20250924T200000
DTSTAMP:20260419T103814
CREATED:20250624T011708Z
LAST-MODIFIED:20250714T223139Z
UID:1572-1758733200-1758744000@so-me-district.com
SUMMARY:SO|ME Market
DESCRIPTION:Midweek magic\, made local \nThe SO|ME Market brings together makers\, food trucks\, artisan goods\, and live vibes—every 2nd & 4th Wednesday\, April through October. It’s your go-to for good eats\, unique finds\, and neighborhood fun\, all in one vibrant outdoor spot. Come shop\, stroll\, and soak it in! \nSee Full Market Lineup
URL:https://so-me-district.com/event/some-market-sptember-24/
LOCATION:SO|ME Amp\, 1363 E Phenomenal St\, Meridian\, ID\, 83642\, United States
ATTACH;FMTTYPE=image/png:https://so-me-district.com/2021/wp-content/uploads/2025/06/Website-Event-Photos.png
END:VEVENT
BEGIN:VEVENT
DTSTART;TZID=America/Denver:20250919T180000
DTEND;TZID=America/Denver:20250919T200000
DTSTAMP:20260419T103814
CREATED:20250801T191343Z
LAST-MODIFIED:20250801T191343Z
UID:1778-1758304800-1758312000@so-me-district.com
SUMMARY:Live Music: Bronson and Co. Duo
DESCRIPTION:Bronson and Co. acoustic duo will be live at the SO|ME Amp on Friday\, September 19th to bring you a mixture of country and rock!
URL:https://so-me-district.com/event/live-music-bronson-and-co-duo/
LOCATION:ID
ATTACH;FMTTYPE=image/png:https://so-me-district.com/2021/wp-content/uploads/2025/08/photoduo.png
END:VEVENT
END:VCALENDAR