BEGIN:VCALENDAR
VERSION:2.0
PRODID:-//SO ME District - ECPv6.13.2.1//NONSGML v1.0//EN
CALSCALE:GREGORIAN
METHOD:PUBLISH
X-WR-CALNAME:SO ME District
X-ORIGINAL-URL:https://so-me-district.com
X-WR-CALDESC:Events for SO ME District
REFRESH-INTERVAL;VALUE=DURATION:PT1H
X-Robots-Tag:noindex
X-PUBLISHED-TTL:PT1H
BEGIN:VTIMEZONE
TZID:America/Denver
BEGIN:DAYLIGHT
TZOFFSETFROM:-0700
TZOFFSETTO:-0600
TZNAME:MDT
DTSTART:20260308T090000
END:DAYLIGHT
BEGIN:STANDARD
TZOFFSETFROM:-0600
TZOFFSETTO:-0700
TZNAME:MST
DTSTART:20261101T080000
END:STANDARD
END:VTIMEZONE
BEGIN:VEVENT
DTSTART;TZID=America/Denver:20261024T180000
DTEND;TZID=America/Denver:20261024T200000
DTSTAMP:20260419T234405
CREATED:20260106T175955Z
LAST-MODIFIED:20260224T170409Z
UID:2185-1792864800-1792872000@so-me-district.com
SUMMARY:2nd Annual Community Trunk-or-Treat Event!
DESCRIPTION:A Safe & Spooktacular Community Event featuring loads of candy\, a food truck\, beverages\, live music\, face painting\, and more!
URL:https://so-me-district.com/event/2nd-annual-community-trunk-or-treat-event/
LOCATION:SO|ME Amp\, 1363 E Phenomenal St\, Meridian\, ID\, 83642\, United States
ATTACH;FMTTYPE=image/jpeg:https://so-me-district.com/2021/wp-content/uploads/2026/01/AdobeStock_385367268-scaled.jpeg
END:VEVENT
BEGIN:VEVENT
DTSTART;TZID=America/Denver:20261028T170000
DTEND;TZID=America/Denver:20261028T200000
DTSTAMP:20260419T234405
CREATED:20260106T174451Z
LAST-MODIFIED:20260106T174451Z
UID:2179-1793206800-1793217600@so-me-district.com
SUMMARY:SO|ME Market
DESCRIPTION:Discover local produce\, local vendors\, and handcrafted goods at the SO|ME Market at Pinnacle\, held every Wednesday from 5–8 p.m. Enjoy shopping\, community fun\, and seasonal activities for all ages.
URL:https://so-me-district.com/event/some-market-28/
LOCATION:SO|ME Amp\, 1363 E Phenomenal St\, Meridian\, ID\, 83642\, United States
ATTACH;FMTTYPE=image/jpeg:https://so-me-district.com/2021/wp-content/uploads/2026/01/Marketphoto202.jpg
END:VEVENT
BEGIN:VEVENT
DTSTART;TZID=America/Denver:20261028T183000
DTEND;TZID=America/Denver:20261028T193000
DTSTAMP:20260419T234405
CREATED:20260310T192305Z
LAST-MODIFIED:20260310T192305Z
UID:2434-1793212200-1793215800@so-me-district.com
SUMMARY:National Magic Day with Kip Sherry
DESCRIPTION:Come celebrate National Magic Day with the best in the biz: Kip Sherry!
URL:https://so-me-district.com/event/national-magic-day-with-kip-sherry/
LOCATION:SO|ME Amp\, 1363 E Phenomenal St\, Meridian\, ID\, 83642\, United States
ATTACH;FMTTYPE=image/jpeg:https://so-me-district.com/2021/wp-content/uploads/2026/03/KippSherry2012-4_White-scaled.jpg
END:VEVENT
BEGIN:VEVENT
DTSTART;TZID=America/Denver:20261114T100000
DTEND;TZID=America/Denver:20261114T140000
DTSTAMP:20260419T234405
CREATED:20260106T174709Z
LAST-MODIFIED:20260106T174709Z
UID:2181-1794650400-1794664800@so-me-district.com
SUMMARY:SO|ME Winter Market
DESCRIPTION:Celebrate the season with us at our Winter Market\, a festive day full of holiday cheer and community spirit. Enjoy Stories with Santa\, shop unique gifts and handmade goods\, and savor delicious bites. The day will feature live music\, warm drinks\, and plenty of holiday magic for the whole family. \nFree and open to all—come support local young makers and kick off the winter season in style.
URL:https://so-me-district.com/event/some-winter-market/
LOCATION:ID
ATTACH;FMTTYPE=image/jpeg:https://so-me-district.com/2021/wp-content/uploads/2026/01/WinterMarket1.jpg
END:VEVENT
END:VCALENDAR