BEGIN:VCALENDAR
VERSION:2.0
PRODID:-//SO ME District - ECPv6.13.2.1//NONSGML v1.0//EN
CALSCALE:GREGORIAN
METHOD:PUBLISH
X-WR-CALNAME:SO ME District
X-ORIGINAL-URL:https://so-me-district.com
X-WR-CALDESC:Events for SO ME District
REFRESH-INTERVAL;VALUE=DURATION:PT1H
X-Robots-Tag:noindex
X-PUBLISHED-TTL:PT1H
BEGIN:VTIMEZONE
TZID:UTC
BEGIN:STANDARD
TZOFFSETFROM:+0000
TZOFFSETTO:+0000
TZNAME:UTC
DTSTART:20250101T000000
END:STANDARD
END:VTIMEZONE
BEGIN:VEVENT
DTSTART;TZID=UTC:20250712T090000
DTEND;TZID=UTC:20250712T100000
DTSTAMP:20260420T050144
CREATED:20250623T231339Z
LAST-MODIFIED:20250624T022241Z
UID:1524-1752310800-1752314400@so-me-district.com
SUMMARY:Yoga at the Amp
DESCRIPTION:Start your day with movement and mindfulness under the open sky. Join us for a refreshing outdoor yoga session designed for all levels. Whether you’re a seasoned yogi or just beginning\, this peaceful practice is the perfect way to connect with your breath\, body\, and community.
URL:https://so-me-district.com/event/yoga-at-the-amp/
LOCATION:SO|ME Amp\, 1363 E Phenomenal St\, Meridian\, ID\, 83642\, United States
ATTACH;FMTTYPE=image/png:https://so-me-district.com/2021/wp-content/uploads/2025/06/Yoga-at-the-Amp.png
END:VEVENT
BEGIN:VEVENT
DTSTART;TZID=UTC:20250711T170000
DTEND;TZID=UTC:20250711T200000
DTSTAMP:20260420T050144
CREATED:20250624T001232Z
LAST-MODIFIED:20250624T045152Z
UID:1542-1752253200-1752264000@so-me-district.com
SUMMARY:PRIVATE EVENT - AMP Closed
DESCRIPTION:The SO|ME Amp is closed today for a private event. \n  \nWant to book your own private eventuate the SO|ME Amp? \nBOOK HERE
URL:https://so-me-district.com/event/private-event-amp-closed-july-11/
LOCATION:SO|ME Amp\, 1363 E Phenomenal St\, Meridian\, ID\, 83642\, United States
ATTACH;FMTTYPE=image/png:https://so-me-district.com/2021/wp-content/uploads/2025/06/Private-event.png
END:VEVENT
BEGIN:VEVENT
DTSTART;TZID=UTC:20250709T170000
DTEND;TZID=UTC:20250709T200000
DTSTAMP:20260420T050144
CREATED:20250624T010056Z
LAST-MODIFIED:20250624T021335Z
UID:1560-1752080400-1752091200@so-me-district.com
SUMMARY:SO|ME Market
DESCRIPTION:Midweek magic\, made local \nThe SO|ME Market brings together makers\, food trucks\, artisan goods\, and live vibes—every 2nd & 4th Wednesday\, April through October. It’s your go-to for good eats\, unique finds\, and neighborhood fun\, all in one vibrant outdoor spot. Come shop\, stroll\, and soak it in! \nSee Full Market Lineup
URL:https://so-me-district.com/event/some-market-july-9/
LOCATION:SO|ME Amp\, 1363 E Phenomenal St\, Meridian\, ID\, 83642\, United States
ATTACH;FMTTYPE=image/png:https://so-me-district.com/2021/wp-content/uploads/2025/06/Website-Event-Photos.png
END:VEVENT
BEGIN:VEVENT
DTSTART;TZID=UTC:20250708T100000
DTEND;TZID=UTC:20250708T110000
DTSTAMP:20260420T050144
CREATED:20250619T230923Z
LAST-MODIFIED:20250624T044052Z
UID:1511-1751968800-1751972400@so-me-district.com
SUMMARY:Stories in the Sky
DESCRIPTION:An educational program about raptor biology and conservation science. Come meet two avian ambassadors and learn about what you can do at home to help our raptor neighbors! \n 
URL:https://so-me-district.com/event/stories-in-the-sky-july-8/
LOCATION:SO|ME Amp\, 1363 E Phenomenal St\, Meridian\, ID\, 83642\, United States
ATTACH;FMTTYPE=image/png:https://so-me-district.com/2021/wp-content/uploads/2025/06/Website-Event-Photos-2.png
END:VEVENT
BEGIN:VEVENT
DTSTART;TZID=UTC:20250625T170000
DTEND;TZID=UTC:20250625T200000
DTSTAMP:20260420T050144
CREATED:20250624T005907Z
LAST-MODIFIED:20250717T154641Z
UID:1558-1750870800-1750881600@so-me-district.com
SUMMARY:SO|ME Market
DESCRIPTION:Midweek magic\, made local The SO|ME Market brings together makers\, food trucks\, artisan goods\, and live vibes—every 2nd & 4th Wednesday\, April through October. It’s your go-to for good eats\, unique finds\, and neighborhood fun\, all in one vibrant outdoor spot. Come shop\, stroll\, and soak it in!
URL:https://so-me-district.com/event/some-market-june-25/
LOCATION:SO|ME Amp\, 1363 E Phenomenal St\, Meridian\, ID\, 83642\, United States
ATTACH;FMTTYPE=image/png:https://so-me-district.com/2021/wp-content/uploads/2025/06/Website-Event-Photos.png
END:VEVENT
END:VCALENDAR