BEGIN:VCALENDAR
VERSION:2.0
PRODID:-//SO ME District - ECPv6.13.2.1//NONSGML v1.0//EN
CALSCALE:GREGORIAN
METHOD:PUBLISH
X-ORIGINAL-URL:https://so-me-district.com
X-WR-CALDESC:Events for SO ME District
REFRESH-INTERVAL;VALUE=DURATION:PT1H
X-Robots-Tag:noindex
X-PUBLISHED-TTL:PT1H
BEGIN:VTIMEZONE
TZID:America/Denver
BEGIN:DAYLIGHT
TZOFFSETFROM:-0700
TZOFFSETTO:-0600
TZNAME:MDT
DTSTART:20260308T090000
END:DAYLIGHT
BEGIN:STANDARD
TZOFFSETFROM:-0600
TZOFFSETTO:-0700
TZNAME:MST
DTSTART:20261101T080000
END:STANDARD
END:VTIMEZONE
BEGIN:VEVENT
DTSTART;TZID=America/Denver:20260503T090000
DTEND;TZID=America/Denver:20260503T100000
DTSTAMP:20260419T122718
CREATED:20251218T214506Z
LAST-MODIFIED:20260302T210729Z
UID:2106-1777798800-1777802400@so-me-district.com
SUMMARY:Free Community Yoga
DESCRIPTION:Enjoy a free\, all-ages yoga session presented by Yoga Six Nampa! Please bring your own mat and meet inside the AMP gates on the lawn. This welcoming class is perfect for all experience levels. Namaste!
URL:https://so-me-district.com/event/free-community-yoga/
LOCATION:SO|ME Amp\, 1363 E Phenomenal St\, Meridian\, ID\, 83642\, United States
ATTACH;FMTTYPE=image/jpeg:https://so-me-district.com/2021/wp-content/uploads/2025/12/yoga.jpg
END:VEVENT
BEGIN:VEVENT
DTSTART;TZID=America/Denver:20260503T103000
DTEND;TZID=America/Denver:20260503T113000
DTSTAMP:20260419T122718
CREATED:20260309T170954Z
LAST-MODIFIED:20260318T174309Z
UID:2414-1777804200-1777807800@so-me-district.com
SUMMARY:KARVE Movement Lab Presents: Method K
DESCRIPTION:Method K is sculpted strength in motion. Designed and led by Krys Cook\, this modern mat-based method combines strength\, flow\, and controlled intensity. Expect slow\, purposeful movements\, strategic cardio bursts\, and continuous transitions designed to build muscular endurance\, stability\, and a strong mind-body connection. \nRegistration for this class is required\, please sign up here: Schedule page here
URL:https://so-me-district.com/event/method-k-on-the-mat-yoga-pilates-blend/
LOCATION:SO|ME Amp\, 1363 E Phenomenal St\, Meridian\, ID\, 83642\, United States
ORGANIZER;CN="KARVE":MAILTO:studio@karvelagreefitness.com
END:VEVENT
BEGIN:VEVENT
DTSTART;TZID=America/Denver:20260506T170000
DTEND;TZID=America/Denver:20260506T200000
DTSTAMP:20260419T122718
CREATED:20251204T194911Z
LAST-MODIFIED:20260210T211440Z
UID:2061-1778086800-1778097600@so-me-district.com
SUMMARY:SO|ME Market + Buy Idaho Day!
DESCRIPTION:Discover local produce\, local vendors\, and handcrafted goods at the SO|ME Market at Pinnacle\, held every Wednesday from 5–8 p.m. Enjoy shopping\, community fun\, and seasonal activities for all ages. Support local by shopping Buy Idaho Day!
URL:https://so-me-district.com/event/some-market-3/
LOCATION:SO|ME Amp\, 1363 E Phenomenal St\, Meridian\, ID\, 83642\, United States
ATTACH;FMTTYPE=image/jpeg:https://so-me-district.com/2021/wp-content/uploads/2025/12/Marketphoto4.jpg
ORGANIZER;CN="SO|ME Market":MAILTO:Southmeridianmarket@brighton.co
END:VEVENT
BEGIN:VEVENT
DTSTART;TZID=America/Denver:20260506T180000
DTEND;TZID=America/Denver:20260506T200000
DTSTAMP:20260419T122718
CREATED:20260210T211323Z
LAST-MODIFIED:20260210T215235Z
UID:2238-1778090400-1778097600@so-me-district.com
SUMMARY:Mother's Day Floral Arrangement Class with Posy Blue!
DESCRIPTION:Join Posy Blue for a Mother’s Day floral arrangement class and create your own custom arrangement with fresh blooms. Instruction\, flowers\, vase\, and all materials are included. \n  \n$65/pp + fees \n  \nTickets in “Website” link below!
URL:https://so-me-district.com/event/mothers-day-floral-arrangement-class-with-posy-blue/
LOCATION:SO|ME Amp\, 1363 E Phenomenal St\, Meridian\, ID\, 83642\, United States
ATTACH;FMTTYPE=image/jpeg:https://so-me-district.com/2021/wp-content/uploads/2026/02/5.06-Floral-Class-Buy-Idaho-Day.jpg
ORGANIZER;CN="Posy Blue":MAILTO:info@posyblue.com
END:VEVENT
BEGIN:VEVENT
DTSTART;TZID=America/Denver:20260510T090000
DTEND;TZID=America/Denver:20260510T100000
DTSTAMP:20260419T122718
CREATED:20260309T164822Z
LAST-MODIFIED:20260309T164822Z
UID:2393-1778403600-1778407200@so-me-district.com
SUMMARY:Mat Pilates
DESCRIPTION:Join Y6 Nampa for an all ages Mat Pilates class! Class is free to attend\, just bring your own mat and water!
URL:https://so-me-district.com/event/mat-pilates/
LOCATION:SO|ME Amp\, 1363 E Phenomenal St\, Meridian\, ID\, 83642\, United States
ATTACH;FMTTYPE=image/jpeg:https://so-me-district.com/2021/wp-content/uploads/2026/03/AdobeStock_571460639-scaled.jpeg
END:VEVENT
BEGIN:VEVENT
DTSTART;TZID=America/Denver:20260513T170000
DTEND;TZID=America/Denver:20260513T200000
DTSTAMP:20260419T122718
CREATED:20251204T195010Z
LAST-MODIFIED:20251204T195010Z
UID:2064-1778691600-1778702400@so-me-district.com
SUMMARY:SO|ME Market
DESCRIPTION:Discover local produce\, local vendors\, and handcrafted goods at the SO|ME Market at Pinnacle\, held every Wednesday from 5–8 p.m. Enjoy shopping\, community fun\, and seasonal activities for all ages.
URL:https://so-me-district.com/event/some-market-4/
LOCATION:SO|ME Amp\, 1363 E Phenomenal St\, Meridian\, ID\, 83642\, United States
ATTACH;FMTTYPE=image/jpeg:https://so-me-district.com/2021/wp-content/uploads/2025/12/Marketphoto5.jpg
ORGANIZER;CN="SO|ME Market":MAILTO:Southmeridianmarket@brighton.co
END:VEVENT
BEGIN:VEVENT
DTSTART;TZID=America/Denver:20260513T180000
DTEND;TZID=America/Denver:20260513T200000
DTSTAMP:20260419T122718
CREATED:20260224T171721Z
LAST-MODIFIED:20260224T171745Z
UID:2262-1778695200-1778702400@so-me-district.com
SUMMARY:Rock N' Bingo (WIN PRIZES!)
DESCRIPTION:Rock N’ Bingo hosted by Game Night Live! \nThis week’s Theme: Oldies but Goodies\, One Hit Wonders: Self explanatory playlists! \nWinner will receive a $50 Gift Card to Vintage ’61 Wine Bar and Kitchen!
URL:https://so-me-district.com/event/rock-n-bingo-win-prizes/
LOCATION:SO|ME Amp\, 1363 E Phenomenal St\, Meridian\, ID\, 83642\, United States
ATTACH;FMTTYPE=image/jpeg:https://so-me-district.com/2021/wp-content/uploads/2026/02/AdobeStock_748029049-scaled.jpg
END:VEVENT
BEGIN:VEVENT
DTSTART;TZID=America/Denver:20260517T090000
DTEND;TZID=America/Denver:20260517T100000
DTSTAMP:20260419T122718
CREATED:20251218T214900Z
LAST-MODIFIED:20260302T210803Z
UID:2109-1779008400-1779012000@so-me-district.com
SUMMARY:Free Community Yoga
DESCRIPTION:Enjoy a free\, all-ages yoga session presented by Yoga Six Nampa! Please bring your own mat and meet inside the AMP gates on the lawn. This welcoming class is perfect for all experience levels. Namaste!
URL:https://so-me-district.com/event/free-community-yoga-2/
LOCATION:SO|ME Amp\, 1363 E Phenomenal St\, Meridian\, ID\, 83642\, United States
ATTACH;FMTTYPE=image/jpeg:https://so-me-district.com/2021/wp-content/uploads/2025/12/yoga.jpg
END:VEVENT
BEGIN:VEVENT
DTSTART;TZID=America/Denver:20260520T170000
DTEND;TZID=America/Denver:20260520T200000
DTSTAMP:20260419T122718
CREATED:20251204T195107Z
LAST-MODIFIED:20251204T195107Z
UID:2067-1779296400-1779307200@so-me-district.com
SUMMARY:SO|ME Market
DESCRIPTION:Discover local produce\, local vendors\, and handcrafted goods at the SO|ME Market at Pinnacle\, held every Wednesday from 5–8 p.m. Enjoy shopping\, community fun\, and seasonal activities for all ages.
URL:https://so-me-district.com/event/some-market-5/
LOCATION:SO|ME Amp\, 1363 E Phenomenal St\, Meridian\, ID\, 83642\, United States
ATTACH;FMTTYPE=image/jpeg:https://so-me-district.com/2021/wp-content/uploads/2025/12/Marketphoto6.jpg
ORGANIZER;CN="SO|ME Market":MAILTO:Southmeridianmarket@brighton.co
END:VEVENT
BEGIN:VEVENT
DTSTART;TZID=America/Denver:20260520T180000
DTEND;TZID=America/Denver:20260520T200000
DTSTAMP:20260419T122718
CREATED:20260210T212435Z
LAST-MODIFIED:20260304T172856Z
UID:2242-1779300000-1779307200@so-me-district.com
SUMMARY:SO|ME Concert Series: Sunsmith
DESCRIPTION:Enjoy a live reggae-rock performance by Sunsmith at the SO|ME Amp. Join us Wednesday\, May 20 from 6–8pm for an evening of laid-back grooves and outdoor music. \nAlcoholic beverages will be available for purchase on-site through a licensed third-party vendor\, so we kindly ask that guests do not bring outside alcohol to the event. Non-alcoholic beverages\, snacks\, and other concessions will be available at the SO|ME Amp concessions booth.
URL:https://so-me-district.com/event/some-music-series-sunsmith/
LOCATION:SO|ME Amp\, 1363 E Phenomenal St\, Meridian\, ID\, 83642\, United States
ATTACH;FMTTYPE=image/jpeg:https://so-me-district.com/2021/wp-content/uploads/2026/02/Screenshot-2026-02-10-142610.jpg
END:VEVENT
BEGIN:VEVENT
DTSTART;TZID=America/Denver:20260524T090000
DTEND;TZID=America/Denver:20260524T100000
DTSTAMP:20260419T122718
CREATED:20260309T164929Z
LAST-MODIFIED:20260309T164929Z
UID:2396-1779613200-1779616800@so-me-district.com
SUMMARY:Mat Pilates
DESCRIPTION:Join Y6 Nampa for an all ages Mat Pilates class! Class is free to attend\, just bring your own mat and water!
URL:https://so-me-district.com/event/mat-pilates-2/
LOCATION:SO|ME Amp\, 1363 E Phenomenal St\, Meridian\, ID\, 83642\, United States
ATTACH;FMTTYPE=image/jpeg:https://so-me-district.com/2021/wp-content/uploads/2026/03/AdobeStock_571460639-scaled.jpeg
END:VEVENT
BEGIN:VEVENT
DTSTART;TZID=America/Denver:20260527T170000
DTEND;TZID=America/Denver:20260527T200000
DTSTAMP:20260419T122718
CREATED:20251204T195215Z
LAST-MODIFIED:20251204T195242Z
UID:2070-1779901200-1779912000@so-me-district.com
SUMMARY:SO|ME Market
DESCRIPTION:Discover local produce\, local vendors\, and handcrafted goods at the SO|ME Market at Pinnacle\, held every Wednesday from 5–8 p.m. Enjoy shopping\, community fun\, and seasonal activities for all ages.
URL:https://so-me-district.com/event/some-market-6/
LOCATION:SO|ME Amp\, 1363 E Phenomenal St\, Meridian\, ID\, 83642\, United States
ATTACH;FMTTYPE=image/jpeg:https://so-me-district.com/2021/wp-content/uploads/2025/12/Marketphoto7.jpg
ORGANIZER;CN="SO|ME Market":MAILTO:Southmeridianmarket@brighton.co
END:VEVENT
BEGIN:VEVENT
DTSTART;TZID=America/Denver:20260527T170000
DTEND;TZID=America/Denver:20260527T200000
DTSTAMP:20260419T122718
CREATED:20260224T170816Z
LAST-MODIFIED:20260224T170816Z
UID:2256-1779901200-1779912000@so-me-district.com
SUMMARY:208 Street Machines Car Show at SO|ME Market
DESCRIPTION:Car show\, Dog Market\, Dog Contests and more! More details to follow.
URL:https://so-me-district.com/event/208-street-machines-car-show-at-some-market/
LOCATION:SO|ME Amp\, 1363 E Phenomenal St\, Meridian\, ID\, 83642\, United States
ORGANIZER;CN="208 Street Machines":MAILTO:info@streetmachines.org
END:VEVENT
BEGIN:VEVENT
DTSTART;TZID=America/Denver:20260528T180000
DTEND;TZID=America/Denver:20260528T190000
DTSTAMP:20260419T122718
CREATED:20260309T171420Z
LAST-MODIFIED:20260318T174411Z
UID:2422-1779991200-1779994800@so-me-district.com
SUMMARY:KARVE Method Lab Presents: Method K
DESCRIPTION:Method K is sculpted strength in motion. Designed and led by Krys Cook\, this modern mat-based method combines strength\, flow\, and controlled intensity. Expect slow\, purposeful movements\, strategic cardio bursts\, and continuous transitions designed to build muscular endurance\, stability\, and a strong mind-body connection. \nRegistration for this class is required\, please sign up here: Schedule page here \n 
URL:https://so-me-district.com/event/method-k-on-the-mat-blend-of-yoga-pilates-3/
LOCATION:SO|ME Amp\, 1363 E Phenomenal St\, Meridian\, ID\, 83642\, United States
ORGANIZER;CN="KARVE":MAILTO:studio@karvelagreefitness.com
END:VEVENT
END:VCALENDAR