BEGIN:VCALENDAR
VERSION:2.0
PRODID:-//SO ME District - ECPv6.13.2.1//NONSGML v1.0//EN
CALSCALE:GREGORIAN
METHOD:PUBLISH
X-WR-CALNAME:SO ME District
X-ORIGINAL-URL:https://so-me-district.com
X-WR-CALDESC:Events for SO ME District
REFRESH-INTERVAL;VALUE=DURATION:PT1H
X-Robots-Tag:noindex
X-PUBLISHED-TTL:PT1H
BEGIN:VTIMEZONE
TZID:America/Denver
BEGIN:DAYLIGHT
TZOFFSETFROM:-0700
TZOFFSETTO:-0600
TZNAME:MDT
DTSTART:20260308T090000
END:DAYLIGHT
BEGIN:STANDARD
TZOFFSETFROM:-0600
TZOFFSETTO:-0700
TZNAME:MST
DTSTART:20261101T080000
END:STANDARD
END:VTIMEZONE
BEGIN:VEVENT
DTSTART;TZID=America/Denver:20260419T130000
DTEND;TZID=America/Denver:20260419T150000
DTSTAMP:20260419T155629
CREATED:20251007T195135Z
LAST-MODIFIED:20260210T205052Z
UID:1985-1776603600-1776610800@so-me-district.com
SUMMARY:Great Homes Tour: Storytime + Coffee Cart
DESCRIPTION:Join us at the SO|ME Amp for all ages story time with Paige!
URL:https://so-me-district.com/event/great-homes-tour-3/
LOCATION:SO|ME Amp\, 1363 E Phenomenal St\, Meridian\, ID\, 83642\, United States
ATTACH;FMTTYPE=image/png:https://so-me-district.com/2021/wp-content/uploads/2025/10/ChatGPT-Image-Feb-10-2026-01_50_29-PM.png
ORGANIZER;CN="Great Homes Tour":MAILTO:brightonmarketing@brighton.co
END:VEVENT
BEGIN:VEVENT
DTSTART;TZID=America/Denver:20260419T170000
DTEND;TZID=America/Denver:20260419T190000
DTSTAMP:20260419T155629
CREATED:20260401T214556Z
LAST-MODIFIED:20260402T163421Z
UID:2497-1776618000-1776625200@so-me-district.com
SUMMARY:Yugo Zumba & Spring Wellness Event
DESCRIPTION:YUGO Zumba is a high-energy dance fitness class set to Balkan hits! Fun\, welcoming\, and open to all levels. It’s all about bringing people together through movement\, music\, and good energy. Come move\, sweat\, and connect\, then stay after to support and connect with local wellness vendors. \nYugo Zumbo: 5-6pm \nSpring Wellness Event:  6-7pm \nVendors: \n\nSuper Crepes\nStretch Lab\nReiki Healing\nInfinity Jewelry\nFace Foundrie\nOola Bowls
URL:https://so-me-district.com/event/yugo-zumba/
LOCATION:SO|ME Amp\, 1363 E Phenomenal St\, Meridian\, ID\, 83642\, United States
ATTACH;FMTTYPE=image/png:https://so-me-district.com/2021/wp-content/uploads/2026/04/YugoZumbaLogo.png
ORGANIZER;CN="Yugo Zumba":MAILTO:eagleinsightid@gmail.com
END:VEVENT
END:VCALENDAR